BEGIN:VCALENDAR
VERSION:2.0
PRODID:-//Spartipps f&uuml;r H&ouml;xter - ECPv6.15.20//NONSGML v1.0//EN
CALSCALE:GREGORIAN
METHOD:PUBLISH
X-WR-CALNAME:Spartipps f&uuml;r H&ouml;xter
X-ORIGINAL-URL:https://spartipps-hx.de
X-WR-CALDESC:Veranstaltungen für Spartipps f&uuml;r H&ouml;xter
REFRESH-INTERVAL;VALUE=DURATION:PT1H
X-Robots-Tag:noindex
X-PUBLISHED-TTL:PT1H
BEGIN:VTIMEZONE
TZID:Europe/Berlin
BEGIN:DAYLIGHT
TZOFFSETFROM:+0100
TZOFFSETTO:+0200
TZNAME:CEST
DTSTART:20240331T010000
END:DAYLIGHT
BEGIN:STANDARD
TZOFFSETFROM:+0200
TZOFFSETTO:+0100
TZNAME:CET
DTSTART:20241027T010000
END:STANDARD
BEGIN:DAYLIGHT
TZOFFSETFROM:+0100
TZOFFSETTO:+0200
TZNAME:CEST
DTSTART:20250330T010000
END:DAYLIGHT
BEGIN:STANDARD
TZOFFSETFROM:+0200
TZOFFSETTO:+0100
TZNAME:CET
DTSTART:20251026T010000
END:STANDARD
BEGIN:DAYLIGHT
TZOFFSETFROM:+0100
TZOFFSETTO:+0200
TZNAME:CEST
DTSTART:20260329T010000
END:DAYLIGHT
BEGIN:STANDARD
TZOFFSETFROM:+0200
TZOFFSETTO:+0100
TZNAME:CET
DTSTART:20261025T010000
END:STANDARD
BEGIN:DAYLIGHT
TZOFFSETFROM:+0100
TZOFFSETTO:+0200
TZNAME:CEST
DTSTART:20270328T010000
END:DAYLIGHT
BEGIN:STANDARD
TZOFFSETFROM:+0200
TZOFFSETTO:+0100
TZNAME:CET
DTSTART:20271031T010000
END:STANDARD
END:VTIMEZONE
BEGIN:VEVENT
DTSTART;VALUE=DATE:20251124
DTEND;VALUE=DATE:20260105
DTSTAMP:20260423T180507
CREATED:20251107T113152Z
LAST-MODIFIED:20251107T113152Z
UID:12228-1763942400-1767571199@spartipps-hx.de
SUMMARY:Weihnachtsmarkt Holzminden
DESCRIPTION:Innenstadt Holzminden \n  \nAm 24. Dezember\, 25. Dezember sowie am 31. Dezember und 1. Januar 2026 jeweils geschlossen. Am Freitag 26. Dezember von 13 bis 19 Uhr geöffnet.
URL:https://spartipps-hx.de/veranstaltungen/weihnachtsmarkt-holzminden/
END:VEVENT
BEGIN:VEVENT
DTSTART;VALUE=DATE:20251124
DTEND;VALUE=DATE:20260105
DTSTAMP:20260423T180507
CREATED:20251107T113155Z
LAST-MODIFIED:20251107T113155Z
UID:12271-1763942400-1767571199@spartipps-hx.de
SUMMARY:Weihnachtsmarkt Holzminden
DESCRIPTION:Marktplatz Holzminden
URL:https://spartipps-hx.de/veranstaltungen/weihnachtsmarkt-holzminden-2/
END:VEVENT
BEGIN:VEVENT
DTSTART;VALUE=DATE:20251127
DTEND;VALUE=DATE:20251225
DTSTAMP:20260423T180508
CREATED:20251107T113209Z
LAST-MODIFIED:20251107T113209Z
UID:12216-1764201600-1766620799@spartipps-hx.de
SUMMARY:Höxteraner Weihnachtsmarkt
DESCRIPTION:Innenstadt Höxter\nMarktplatz\n37671 Höxter – Kernstadt
URL:https://spartipps-hx.de/veranstaltungen/hoexteraner-weihnachtsmarkt/
END:VEVENT
END:VCALENDAR