BEGIN:VCALENDAR
VERSION:2.0
PRODID:-//Spartipps f&uuml;r H&ouml;xter - ECPv6.15.20//NONSGML v1.0//EN
CALSCALE:GREGORIAN
METHOD:PUBLISH
X-WR-CALNAME:Spartipps f&uuml;r H&ouml;xter
X-ORIGINAL-URL:https://spartipps-hx.de
X-WR-CALDESC:Veranstaltungen für Spartipps f&uuml;r H&ouml;xter
REFRESH-INTERVAL;VALUE=DURATION:PT1H
X-Robots-Tag:noindex
X-PUBLISHED-TTL:PT1H
BEGIN:VTIMEZONE
TZID:Europe/Berlin
BEGIN:DAYLIGHT
TZOFFSETFROM:+0100
TZOFFSETTO:+0200
TZNAME:CEST
DTSTART:20240331T010000
END:DAYLIGHT
BEGIN:STANDARD
TZOFFSETFROM:+0200
TZOFFSETTO:+0100
TZNAME:CET
DTSTART:20241027T010000
END:STANDARD
BEGIN:DAYLIGHT
TZOFFSETFROM:+0100
TZOFFSETTO:+0200
TZNAME:CEST
DTSTART:20250330T010000
END:DAYLIGHT
BEGIN:STANDARD
TZOFFSETFROM:+0200
TZOFFSETTO:+0100
TZNAME:CET
DTSTART:20251026T010000
END:STANDARD
BEGIN:DAYLIGHT
TZOFFSETFROM:+0100
TZOFFSETTO:+0200
TZNAME:CEST
DTSTART:20260329T010000
END:DAYLIGHT
BEGIN:STANDARD
TZOFFSETFROM:+0200
TZOFFSETTO:+0100
TZNAME:CET
DTSTART:20261025T010000
END:STANDARD
BEGIN:DAYLIGHT
TZOFFSETFROM:+0100
TZOFFSETTO:+0200
TZNAME:CEST
DTSTART:20270328T010000
END:DAYLIGHT
BEGIN:STANDARD
TZOFFSETFROM:+0200
TZOFFSETTO:+0100
TZNAME:CET
DTSTART:20271031T010000
END:STANDARD
END:VTIMEZONE
BEGIN:VEVENT
DTSTART;TZID=Europe/Berlin:20251105T070000
DTEND;TZID=Europe/Berlin:20251105T140000
DTSTAMP:20260425T122345
CREATED:20251107T112952Z
LAST-MODIFIED:20251107T112952Z
UID:12218-1762326000-1762351200@spartipps-hx.de
SUMMARY:Vieh- und Krammarkt Höxter
DESCRIPTION:Innenstadt Höxter\nMarktplatz\n37671 Höxter – Kernstadt
URL:https://spartipps-hx.de/veranstaltungen/vieh-und-krammarkt-hoexter-8/
END:VEVENT
BEGIN:VEVENT
DTSTART;TZID=Europe/Berlin:20251105T080000
DTEND;TZID=Europe/Berlin:20251105T130000
DTSTAMP:20260425T122345
CREATED:20251107T112957Z
LAST-MODIFIED:20251107T112957Z
UID:12194-1762329600-1762347600@spartipps-hx.de
SUMMARY:Wochenmarkt Höxter
DESCRIPTION:Innenstadt Höxter\nMarktplatz\n37671 Höxter – Kernstadt
URL:https://spartipps-hx.de/veranstaltungen/wochenmarkt-hoexter-70/
END:VEVENT
BEGIN:VEVENT
DTSTART;TZID=Europe/Berlin:20251105T080000
DTEND;TZID=Europe/Berlin:20251105T170000
DTSTAMP:20260425T122345
CREATED:20251107T113002Z
LAST-MODIFIED:20251107T113002Z
UID:12289-1762329600-1762362000@spartipps-hx.de
SUMMARY:KULTURFORUM Warburg: 4. Kufo-Spielenachmittag
DESCRIPTION:Ort:\n\nKULTURFORUM Warburg\, Klockenstraße 3\, 34414 Warburg \n\nOrtschaft:\n\nWarburg \n\nPreis:\n\nDer Eintritt ist frei um Voranmeldung unter info@kufo.de wird gebeten.
URL:https://spartipps-hx.de/veranstaltungen/kulturforum-warburg-4-kufo-spielenachmittag/
END:VEVENT
BEGIN:VEVENT
DTSTART;TZID=Europe/Berlin:20251106T140000
DTEND;TZID=Europe/Berlin:20251106T180000
DTSTAMP:20260425T122345
CREATED:20251107T113005Z
LAST-MODIFIED:20251107T113005Z
UID:12239-1762437600-1762452000@spartipps-hx.de
SUMMARY:Repaircafé Steinheim
DESCRIPTION:Markstr. 18 \n32839 Steinheim
URL:https://spartipps-hx.de/veranstaltungen/repaircafe-steinheim-15/
END:VEVENT
BEGIN:VEVENT
DTSTART;TZID=Europe/Berlin:20251107T070000
DTEND;TZID=Europe/Berlin:20251107T130000
DTSTAMP:20260425T122345
CREATED:20251107T113010Z
LAST-MODIFIED:20251107T113010Z
UID:12296-1762498800-1762520400@spartipps-hx.de
SUMMARY:Bad Driburger Wochenmarkt
DESCRIPTION:Kontakt \n\n\n\n\nSchulstraße / Ecke Freiheit\nSchulstraße \n33014 Bad Driburg
URL:https://spartipps-hx.de/veranstaltungen/bad-driburger-wochenmarkt-6/
END:VEVENT
BEGIN:VEVENT
DTSTART;VALUE=DATE:20251108
DTEND;VALUE=DATE:20251110
DTSTAMP:20260425T122345
CREATED:20251107T113015Z
LAST-MODIFIED:20251107T113015Z
UID:12212-1762560000-1762732799@spartipps-hx.de
SUMMARY:6. Tattoo Convention Höxter
DESCRIPTION:Residenz Stadthalle Höxter\nWallstraße 15\n37671 Höxter – Kernstadt
URL:https://spartipps-hx.de/veranstaltungen/6-tattoo-convention-hoexter/
END:VEVENT
BEGIN:VEVENT
DTSTART;TZID=Europe/Berlin:20251108T080000
DTEND;TZID=Europe/Berlin:20251108T130000
DTSTAMP:20260425T122345
CREATED:20251107T113018Z
LAST-MODIFIED:20251107T113018Z
UID:12202-1762588800-1762606800@spartipps-hx.de
SUMMARY:Wochenmarkt Höxter
DESCRIPTION:Innenstadt Höxter\nMarktplatz\n37671 Höxter – Kernstadt
URL:https://spartipps-hx.de/veranstaltungen/wochenmarkt-hoexter-71/
END:VEVENT
BEGIN:VEVENT
DTSTART;TZID=Europe/Berlin:20251108T103000
DTEND;TZID=Europe/Berlin:20251108T113000
DTSTAMP:20260425T122345
CREATED:20251107T113022Z
LAST-MODIFIED:20251107T113022Z
UID:12210-1762597800-1762601400@spartipps-hx.de
SUMMARY:"Office Fit" Vortrag
DESCRIPTION:Ölmühle Solling GmbH\nHöxtersche Straße 3\n37691 Boffzen
URL:https://spartipps-hx.de/veranstaltungen/office-fit-vortrag/
END:VEVENT
BEGIN:VEVENT
DTSTART;TZID=Europe/Berlin:20251108T140000
DTEND;TZID=Europe/Berlin:20251108T160000
DTSTAMP:20260425T122345
CREATED:20251107T113026Z
LAST-MODIFIED:20251107T113026Z
UID:12308-1762610400-1762617600@spartipps-hx.de
SUMMARY:Geführte Wanderung um Bad Driburg "auf den Spuren von Dichtern und Denkern"
DESCRIPTION:Kontakt \n\n\n\n\nWanderinfopunkt am Bahnübergang – Bad Driburg\nLange Straße 140\n33014 Bad Driburg
URL:https://spartipps-hx.de/veranstaltungen/gefuehrte-wanderung-um-bad-driburg-auf-den-spuren-von-dichtern-und-denkern/
END:VEVENT
BEGIN:VEVENT
DTSTART;TZID=Europe/Berlin:20251110T143000
DTEND;TZID=Europe/Berlin:20251110T173000
DTSTAMP:20260425T122345
CREATED:20251107T113032Z
LAST-MODIFIED:20251107T113032Z
UID:12231-1762785000-1762795800@spartipps-hx.de
SUMMARY:Repaircafé Beverungen
DESCRIPTION:Weserstr. 13 \n37688 Beverungen \n 
URL:https://spartipps-hx.de/veranstaltungen/repaircafe-beverungen-15/
END:VEVENT
BEGIN:VEVENT
DTSTART;TZID=Europe/Berlin:20251111T180000
DTEND;TZID=Europe/Berlin:20251111T200000
DTSTAMP:20260425T122345
CREATED:20251107T113035Z
LAST-MODIFIED:20251107T113035Z
UID:12237-1762884000-1762891200@spartipps-hx.de
SUMMARY:Repaircafé Scherfede
DESCRIPTION:Dorftreff Scherfede \nBriloner Str. 30 \n34414 Warburg
URL:https://spartipps-hx.de/veranstaltungen/repaircafe-scherfede-8/
END:VEVENT
BEGIN:VEVENT
DTSTART;TZID=Europe/Berlin:20251112T080000
DTEND;TZID=Europe/Berlin:20251112T130000
DTSTAMP:20260425T122345
CREATED:20251107T113039Z
LAST-MODIFIED:20251107T113039Z
UID:12196-1762934400-1762952400@spartipps-hx.de
SUMMARY:Wochenmarkt Höxter
DESCRIPTION:Innenstadt Höxter\nMarktplatz\n37671 Höxter – Kernstadt
URL:https://spartipps-hx.de/veranstaltungen/wochenmarkt-hoexter-72/
END:VEVENT
BEGIN:VEVENT
DTSTART;TZID=Europe/Berlin:20251114T070000
DTEND;TZID=Europe/Berlin:20251114T130000
DTSTAMP:20260425T122345
CREATED:20251107T113043Z
LAST-MODIFIED:20251107T113043Z
UID:12300-1763103600-1763125200@spartipps-hx.de
SUMMARY:Bad Driburger Wochenmarkt
DESCRIPTION:Kontakt \n\n\n\n\nSchulstraße / Ecke Freiheit\nSchulstraße \n33014 Bad Driburg
URL:https://spartipps-hx.de/veranstaltungen/bad-driburger-wochenmarkt-7/
END:VEVENT
BEGIN:VEVENT
DTSTART;TZID=Europe/Berlin:20251114T083000
DTEND;TZID=Europe/Berlin:20251114T110000
DTSTAMP:20260425T122345
CREATED:20251107T113046Z
LAST-MODIFIED:20251107T113046Z
UID:12235-1763109000-1763118000@spartipps-hx.de
SUMMARY:Repaircafé Brakel
DESCRIPTION:Am Markt 11 \n33034 Brakel
URL:https://spartipps-hx.de/veranstaltungen/repaircafe-brakel-8/
END:VEVENT
BEGIN:VEVENT
DTSTART;TZID=Europe/Berlin:20251114T140000
DTEND;TZID=Europe/Berlin:20251114T160000
DTSTAMP:20260425T122345
CREATED:20251107T113050Z
LAST-MODIFIED:20251107T113050Z
UID:12312-1763128800-1763136000@spartipps-hx.de
SUMMARY:Stadtführung Bad Driburg
DESCRIPTION:Kontakt \n\n\n\n\nTourist Information Bad Driburg\nLange Straße 87\n33014 Bad Driburg
URL:https://spartipps-hx.de/veranstaltungen/stadtfuehrung-bad-driburg-16/
END:VEVENT
BEGIN:VEVENT
DTSTART;TZID=Europe/Berlin:20251115T080000
DTEND;TZID=Europe/Berlin:20251115T130000
DTSTAMP:20260425T122345
CREATED:20251107T113054Z
LAST-MODIFIED:20251107T113054Z
UID:12204-1763193600-1763211600@spartipps-hx.de
SUMMARY:Wochenmarkt Höxter
DESCRIPTION:Innenstadt Höxter\nMarktplatz\n37671 Höxter – Kernstadt
URL:https://spartipps-hx.de/veranstaltungen/wochenmarkt-hoexter-73/
END:VEVENT
BEGIN:VEVENT
DTSTART;TZID=Europe/Berlin:20251115T100000
DTEND;TZID=Europe/Berlin:20251115T170000
DTSTAMP:20260425T122345
CREATED:20251107T113057Z
LAST-MODIFIED:20251107T113057Z
UID:12275-1763200800-1763226000@spartipps-hx.de
SUMMARY:Flohmarkt Warburg Stadthalle
DESCRIPTION:Stadthalle Warburg\n\n\n\n\n\n\n\n\nHüffertstraße 50\n34414 Warburg
URL:https://spartipps-hx.de/veranstaltungen/flohmarkt-warburg-stadthalle-3/
END:VEVENT
BEGIN:VEVENT
DTSTART;TZID=Europe/Berlin:20251115T103000
DTEND;TZID=Europe/Berlin:20251115T120000
DTSTAMP:20260425T122345
CREATED:20251107T113108Z
LAST-MODIFIED:20251107T113108Z
UID:12214-1763202600-1763208000@spartipps-hx.de
SUMMARY:"Die Ölmühle kennenlernen"
DESCRIPTION:Ölmühle Solling GmbH\nHöxtersche Straße 3\n37691 Boffzen
URL:https://spartipps-hx.de/veranstaltungen/die-oelmuehle-kennenlernen/
END:VEVENT
BEGIN:VEVENT
DTSTART;TZID=Europe/Berlin:20251116T100000
DTEND;TZID=Europe/Berlin:20251116T170000
DTSTAMP:20260425T122345
CREATED:20251107T113113Z
LAST-MODIFIED:20251107T113113Z
UID:12281-1763287200-1763312400@spartipps-hx.de
SUMMARY:Flohmarkt Warburg Stadthalle
DESCRIPTION:Stadthalle Warburg\n\n\n\n\n\n\n\n\nHüffertstraße 50\n34414 Warburg
URL:https://spartipps-hx.de/veranstaltungen/flohmarkt-warburg-stadthalle-4/
END:VEVENT
BEGIN:VEVENT
DTSTART;TZID=Europe/Berlin:20251116T140000
DTEND;TZID=Europe/Berlin:20251116T160000
DTSTAMP:20260425T122345
CREATED:20251107T113118Z
LAST-MODIFIED:20251107T113118Z
UID:12285-1763301600-1763308800@spartipps-hx.de
SUMMARY:Open Sunday beim Tennis Club Warburg (Voranmeldung nötig)
DESCRIPTION:Ort: Warburg – Tennishalle \n\nStiepenweg 16\, 34414 Warburg
URL:https://spartipps-hx.de/veranstaltungen/open-sunday-beim-tennis-club-warburg-voranmeldung-noetig/
END:VEVENT
BEGIN:VEVENT
DTSTART;TZID=Europe/Berlin:20251119T080000
DTEND;TZID=Europe/Berlin:20251119T130000
DTSTAMP:20260425T122345
CREATED:20251107T113123Z
LAST-MODIFIED:20251107T113123Z
UID:12198-1763539200-1763557200@spartipps-hx.de
SUMMARY:Wochenmarkt Höxter
DESCRIPTION:Innenstadt Höxter\nMarktplatz\n37671 Höxter – Kernstadt
URL:https://spartipps-hx.de/veranstaltungen/wochenmarkt-hoexter-74/
END:VEVENT
BEGIN:VEVENT
DTSTART;TZID=Europe/Berlin:20251119T080000
DTEND;TZID=Europe/Berlin:20251119T170000
DTSTAMP:20260425T122345
CREATED:20251107T113127Z
LAST-MODIFIED:20251107T113127Z
UID:12226-1763539200-1763571600@spartipps-hx.de
SUMMARY:Bücher im Gespräch im Forum Jacob Pins
DESCRIPTION:Forum Jacob Pins\nWesterbachstraße 35-37\n37671 Höxter
URL:https://spartipps-hx.de/veranstaltungen/buecher-im-gespraech-im-forum-jacob-pins-2/
END:VEVENT
BEGIN:VEVENT
DTSTART;TZID=Europe/Berlin:20251120T140000
DTEND;TZID=Europe/Berlin:20251120T180000
DTSTAMP:20260425T122345
CREATED:20251107T113131Z
LAST-MODIFIED:20251107T113131Z
UID:12241-1763647200-1763661600@spartipps-hx.de
SUMMARY:Repaircafé Steinheim
DESCRIPTION:Marktstr. 18 \n32839 Steinheim
URL:https://spartipps-hx.de/veranstaltungen/repaircafe-steinheim-16/
END:VEVENT
BEGIN:VEVENT
DTSTART;TZID=Europe/Berlin:20251121T070000
DTEND;TZID=Europe/Berlin:20251121T130000
DTSTAMP:20260425T122345
CREATED:20251107T113135Z
LAST-MODIFIED:20251107T113135Z
UID:12303-1763708400-1763730000@spartipps-hx.de
SUMMARY:Bad Driburger Wochenmarkt
DESCRIPTION:Kontakt \n\n\n\n\nSchulstraße / Ecke Freiheit\nSchulstraße \n33014 Bad Driburg
URL:https://spartipps-hx.de/veranstaltungen/bad-driburger-wochenmarkt-8/
END:VEVENT
BEGIN:VEVENT
DTSTART;TZID=Europe/Berlin:20251122T080000
DTEND;TZID=Europe/Berlin:20251122T130000
DTSTAMP:20260425T122345
CREATED:20251107T113139Z
LAST-MODIFIED:20251107T113139Z
UID:12206-1763798400-1763816400@spartipps-hx.de
SUMMARY:Wochenmarkt Höxter
DESCRIPTION:Innenstadt Höxter\nMarktplatz\n37671 Höxter – Kernstadt
URL:https://spartipps-hx.de/veranstaltungen/wochenmarkt-hoexter-75/
END:VEVENT
BEGIN:VEVENT
DTSTART;TZID=Europe/Berlin:20251123T100000
DTEND;TZID=Europe/Berlin:20251123T170000
DTSTAMP:20260425T122345
CREATED:20251107T113143Z
LAST-MODIFIED:20251107T113143Z
UID:12287-1763892000-1763917200@spartipps-hx.de
SUMMARY:Wanderung Eggegebirgsverein e.V.
DESCRIPTION:Wanderung »Hoher Steiger“ mit Einkehr\n10 km mit Wolf Czudnochowski
URL:https://spartipps-hx.de/veranstaltungen/wanderung-eggegebirgsverein-e-v-2/
END:VEVENT
BEGIN:VEVENT
DTSTART;TZID=Europe/Berlin:20251123T190000
DTEND;TZID=Europe/Berlin:20251123T234500
DTSTAMP:20260425T122345
CREATED:20251107T113147Z
LAST-MODIFIED:20251107T113147Z
UID:12222-1763924400-1763941500@spartipps-hx.de
SUMMARY:Acoustic Session Weserbergland
DESCRIPTION:Die offene Bühne für Musiker des Weserberglandes und weit darüber hinaus.\n\nTonenburg\nThonenburg 1\n37671 Höxter
URL:https://spartipps-hx.de/veranstaltungen/acoustic-session-weserbergland-2/
END:VEVENT
BEGIN:VEVENT
DTSTART;VALUE=DATE:20251124
DTEND;VALUE=DATE:20260105
DTSTAMP:20260425T122345
CREATED:20251107T113152Z
LAST-MODIFIED:20251107T113152Z
UID:12228-1763942400-1767571199@spartipps-hx.de
SUMMARY:Weihnachtsmarkt Holzminden
DESCRIPTION:Innenstadt Holzminden \n  \nAm 24. Dezember\, 25. Dezember sowie am 31. Dezember und 1. Januar 2026 jeweils geschlossen. Am Freitag 26. Dezember von 13 bis 19 Uhr geöffnet.
URL:https://spartipps-hx.de/veranstaltungen/weihnachtsmarkt-holzminden/
END:VEVENT
BEGIN:VEVENT
DTSTART;VALUE=DATE:20251124
DTEND;VALUE=DATE:20260105
DTSTAMP:20260425T122345
CREATED:20251107T113155Z
LAST-MODIFIED:20251107T113155Z
UID:12271-1763942400-1767571199@spartipps-hx.de
SUMMARY:Weihnachtsmarkt Holzminden
DESCRIPTION:Marktplatz Holzminden
URL:https://spartipps-hx.de/veranstaltungen/weihnachtsmarkt-holzminden-2/
END:VEVENT
BEGIN:VEVENT
DTSTART;TZID=Europe/Berlin:20251124T143000
DTEND;TZID=Europe/Berlin:20251124T173000
DTSTAMP:20260425T122345
CREATED:20251107T113159Z
LAST-MODIFIED:20251107T113159Z
UID:12233-1763994600-1764005400@spartipps-hx.de
SUMMARY:Repaircafé Beverungen
DESCRIPTION:Weserstr. 13 \n37688 Beverungen
URL:https://spartipps-hx.de/veranstaltungen/repaircafe-beverungen-16/
END:VEVENT
END:VCALENDAR