BEGIN:VCALENDAR
VERSION:2.0
PRODID:-//Spartipps f&uuml;r H&ouml;xter - ECPv6.15.20//NONSGML v1.0//EN
CALSCALE:GREGORIAN
METHOD:PUBLISH
X-ORIGINAL-URL:https://spartipps-hx.de
X-WR-CALDESC:Veranstaltungen für Spartipps f&uuml;r H&ouml;xter
REFRESH-INTERVAL;VALUE=DURATION:PT1H
X-Robots-Tag:noindex
X-PUBLISHED-TTL:PT1H
BEGIN:VTIMEZONE
TZID:Europe/Berlin
BEGIN:DAYLIGHT
TZOFFSETFROM:+0100
TZOFFSETTO:+0200
TZNAME:CEST
DTSTART:20250330T010000
END:DAYLIGHT
BEGIN:STANDARD
TZOFFSETFROM:+0200
TZOFFSETTO:+0100
TZNAME:CET
DTSTART:20251026T010000
END:STANDARD
BEGIN:DAYLIGHT
TZOFFSETFROM:+0100
TZOFFSETTO:+0200
TZNAME:CEST
DTSTART:20260329T010000
END:DAYLIGHT
BEGIN:STANDARD
TZOFFSETFROM:+0200
TZOFFSETTO:+0100
TZNAME:CET
DTSTART:20261025T010000
END:STANDARD
BEGIN:DAYLIGHT
TZOFFSETFROM:+0100
TZOFFSETTO:+0200
TZNAME:CEST
DTSTART:20270328T010000
END:DAYLIGHT
BEGIN:STANDARD
TZOFFSETFROM:+0200
TZOFFSETTO:+0100
TZNAME:CET
DTSTART:20271031T010000
END:STANDARD
END:VTIMEZONE
BEGIN:VEVENT
DTSTART;TZID=Europe/Berlin:20260417T080000
DTEND;TZID=Europe/Berlin:20260417T130000
DTSTAMP:20260425T134719
CREATED:20260330T095309Z
LAST-MODIFIED:20260330T095309Z
UID:13665-1776412800-1776430800@spartipps-hx.de
SUMMARY:Wochenmarkt | Brakel
DESCRIPTION:Marktplatz
URL:https://spartipps-hx.de/veranstaltungen/wochenmarkt-brakel-10/
END:VEVENT
BEGIN:VEVENT
DTSTART;TZID=Europe/Berlin:20260417T080000
DTEND;TZID=Europe/Berlin:20260417T130000
DTSTAMP:20260425T134719
CREATED:20260330T095316Z
LAST-MODIFIED:20260330T095316Z
UID:13656-1776412800-1776430800@spartipps-hx.de
SUMMARY:Wochenmarkt | Bad Driburg
DESCRIPTION:Schulstraße und Freiheit
URL:https://spartipps-hx.de/veranstaltungen/wochenmarkt-bad-driburg-18/
END:VEVENT
BEGIN:VEVENT
DTSTART;TZID=Europe/Berlin:20260417T140000
DTEND;TZID=Europe/Berlin:20260417T160000
DTSTAMP:20260425T134719
CREATED:20260401T082045Z
LAST-MODIFIED:20260401T082045Z
UID:13790-1776434400-1776441600@spartipps-hx.de
SUMMARY:Stadtführung Bad Driburg
DESCRIPTION:Treffpunkt:\nTourist Information\, Lange Str. 87
URL:https://spartipps-hx.de/veranstaltungen/stadtfuehrung-bad-driburg-19/
END:VEVENT
BEGIN:VEVENT
DTSTART;TZID=Europe/Berlin:20260417T140000
DTEND;TZID=Europe/Berlin:20260417T160000
DTSTAMP:20260425T134719
CREATED:20260401T082050Z
LAST-MODIFIED:20260401T082050Z
UID:13788-1776434400-1776441600@spartipps-hx.de
SUMMARY:Stadtführung Bad Driburg
DESCRIPTION:Treffpunkt:\nTourist Information\, Lange Str. 87
URL:https://spartipps-hx.de/veranstaltungen/stadtfuehrung-bad-driburg-20/
END:VEVENT
BEGIN:VEVENT
DTSTART;TZID=Europe/Berlin:20260417T193000
DTEND;TZID=Europe/Berlin:20260417T220000
DTSTAMP:20260425T134719
CREATED:20260330T095917Z
LAST-MODIFIED:20260330T095917Z
UID:13763-1776454200-1776463200@spartipps-hx.de
SUMMARY:Filmabend im Forum Jacob Pins
DESCRIPTION:Forum Jacob Pins\nWesterbachstraße 35-37\n37671 Höxter
URL:https://spartipps-hx.de/veranstaltungen/filmabend-im-forum-jacob-pins-2/
END:VEVENT
END:VCALENDAR