BEGIN:VCALENDAR
VERSION:2.0
PRODID:-//Spartipps f&uuml;r H&ouml;xter - ECPv6.15.20//NONSGML v1.0//EN
CALSCALE:GREGORIAN
METHOD:PUBLISH
X-WR-CALNAME:Spartipps f&uuml;r H&ouml;xter
X-ORIGINAL-URL:https://spartipps-hx.de
X-WR-CALDESC:Veranstaltungen für Spartipps f&uuml;r H&ouml;xter
REFRESH-INTERVAL;VALUE=DURATION:PT1H
X-Robots-Tag:noindex
X-PUBLISHED-TTL:PT1H
BEGIN:VTIMEZONE
TZID:Europe/Berlin
BEGIN:DAYLIGHT
TZOFFSETFROM:+0100
TZOFFSETTO:+0200
TZNAME:CEST
DTSTART:20250330T010000
END:DAYLIGHT
BEGIN:STANDARD
TZOFFSETFROM:+0200
TZOFFSETTO:+0100
TZNAME:CET
DTSTART:20251026T010000
END:STANDARD
BEGIN:DAYLIGHT
TZOFFSETFROM:+0100
TZOFFSETTO:+0200
TZNAME:CEST
DTSTART:20260329T010000
END:DAYLIGHT
BEGIN:STANDARD
TZOFFSETFROM:+0200
TZOFFSETTO:+0100
TZNAME:CET
DTSTART:20261025T010000
END:STANDARD
BEGIN:DAYLIGHT
TZOFFSETFROM:+0100
TZOFFSETTO:+0200
TZNAME:CEST
DTSTART:20270328T010000
END:DAYLIGHT
BEGIN:STANDARD
TZOFFSETFROM:+0200
TZOFFSETTO:+0100
TZNAME:CET
DTSTART:20271031T010000
END:STANDARD
END:VTIMEZONE
BEGIN:VEVENT
DTSTART;TZID=Europe/Berlin:20260403T080000
DTEND;TZID=Europe/Berlin:20260403T120000
DTSTAMP:20260423T120422
CREATED:20260330T095151Z
LAST-MODIFIED:20260330T095151Z
UID:13672-1775203200-1775217600@spartipps-hx.de
SUMMARY:Wochenmarkt | Warburg Neustadt
DESCRIPTION:
URL:https://spartipps-hx.de/veranstaltungen/wochenmarkt-warburg-neustadt/
END:VEVENT
BEGIN:VEVENT
DTSTART;TZID=Europe/Berlin:20260403T080000
DTEND;TZID=Europe/Berlin:20260403T130000
DTSTAMP:20260423T120422
CREATED:20260330T095157Z
LAST-MODIFIED:20260330T095157Z
UID:13652-1775203200-1775221200@spartipps-hx.de
SUMMARY:Wochenmarkt | Bad Driburg
DESCRIPTION:Schulstraße und Freiheit
URL:https://spartipps-hx.de/veranstaltungen/wochenmarkt-bad-driburg-17/
END:VEVENT
BEGIN:VEVENT
DTSTART;TZID=Europe/Berlin:20260403T080000
DTEND;TZID=Europe/Berlin:20260403T130000
DTSTAMP:20260423T120422
CREATED:20260330T095213Z
LAST-MODIFIED:20260330T095213Z
UID:13660-1775203200-1775221200@spartipps-hx.de
SUMMARY:Wochenmarkt | Brakel
DESCRIPTION:Marktplatz Brakel
URL:https://spartipps-hx.de/veranstaltungen/wochenmarkt-brakel-9/
END:VEVENT
BEGIN:VEVENT
DTSTART;TZID=Europe/Berlin:20260403T080000
DTEND;TZID=Europe/Berlin:20260403T170000
DTSTAMP:20260423T120422
CREATED:20260401T082158Z
LAST-MODIFIED:20260401T082158Z
UID:13784-1775203200-1775235600@spartipps-hx.de
SUMMARY:Stadtführung Bad Driburg
DESCRIPTION:Treffpunkt:\nTourist Information\, Lange Str. 87
URL:https://spartipps-hx.de/veranstaltungen/stadtfuehrung-bad-driburg-22/
END:VEVENT
END:VCALENDAR