BEGIN:VCALENDAR
VERSION:2.0
PRODID:-//Spartipps f&uuml;r H&ouml;xter - ECPv6.15.20//NONSGML v1.0//EN
CALSCALE:GREGORIAN
METHOD:PUBLISH
X-WR-CALNAME:Spartipps f&uuml;r H&ouml;xter
X-ORIGINAL-URL:https://spartipps-hx.de
X-WR-CALDESC:Veranstaltungen für Spartipps f&uuml;r H&ouml;xter
REFRESH-INTERVAL;VALUE=DURATION:PT1H
X-Robots-Tag:noindex
X-PUBLISHED-TTL:PT1H
BEGIN:VTIMEZONE
TZID:Europe/Berlin
BEGIN:DAYLIGHT
TZOFFSETFROM:+0100
TZOFFSETTO:+0200
TZNAME:CEST
DTSTART:20250330T010000
END:DAYLIGHT
BEGIN:STANDARD
TZOFFSETFROM:+0200
TZOFFSETTO:+0100
TZNAME:CET
DTSTART:20251026T010000
END:STANDARD
BEGIN:DAYLIGHT
TZOFFSETFROM:+0100
TZOFFSETTO:+0200
TZNAME:CEST
DTSTART:20260329T010000
END:DAYLIGHT
BEGIN:STANDARD
TZOFFSETFROM:+0200
TZOFFSETTO:+0100
TZNAME:CET
DTSTART:20261025T010000
END:STANDARD
BEGIN:DAYLIGHT
TZOFFSETFROM:+0100
TZOFFSETTO:+0200
TZNAME:CEST
DTSTART:20270328T010000
END:DAYLIGHT
BEGIN:STANDARD
TZOFFSETFROM:+0200
TZOFFSETTO:+0100
TZNAME:CET
DTSTART:20271031T010000
END:STANDARD
END:VTIMEZONE
BEGIN:VEVENT
DTSTART;TZID=Europe/Berlin:20260402T140000
DTEND;TZID=Europe/Berlin:20260402T180000
DTSTAMP:20260423T135800
CREATED:20260330T095112Z
LAST-MODIFIED:20260330T095112Z
UID:13752-1775138400-1775152800@spartipps-hx.de
SUMMARY:Repair Café Steinheim
DESCRIPTION:Marktstraße 18\, 32839 Steinheim \nRepariert wird jeden ersten und dritten Donnerstag im Monat von 14:00 bis 18:00 Uhr.
URL:https://spartipps-hx.de/veranstaltungen/repair-cafe-steinheim-4/
END:VEVENT
BEGIN:VEVENT
DTSTART;TZID=Europe/Berlin:20260402T190000
DTEND;TZID=Europe/Berlin:20260402T210000
DTSTAMP:20260423T135800
CREATED:20260401T082204Z
LAST-MODIFIED:20260401T082204Z
UID:13780-1775156400-1775163600@spartipps-hx.de
SUMMARY:Die Externsteine - Mythos und Naturdenkmal Vortrag
DESCRIPTION:Anmeldung erforderlich\n\nKlinik Rosenberg\nHinter dem Rosenberge 1\n33014 Bad Driburg
URL:https://spartipps-hx.de/veranstaltungen/die-externsteine-mythos-und-naturdenkmal-vortrag/
END:VEVENT
END:VCALENDAR