BEGIN:VCALENDAR
VERSION:2.0
PRODID:-//Spartipps f&uuml;r H&ouml;xter - ECPv6.15.20//NONSGML v1.0//EN
CALSCALE:GREGORIAN
METHOD:PUBLISH
X-WR-CALNAME:Spartipps f&uuml;r H&ouml;xter
X-ORIGINAL-URL:https://spartipps-hx.de
X-WR-CALDESC:Veranstaltungen für Spartipps f&uuml;r H&ouml;xter
REFRESH-INTERVAL;VALUE=DURATION:PT1H
X-Robots-Tag:noindex
X-PUBLISHED-TTL:PT1H
BEGIN:VTIMEZONE
TZID:Europe/Berlin
BEGIN:DAYLIGHT
TZOFFSETFROM:+0100
TZOFFSETTO:+0200
TZNAME:CEST
DTSTART:20250330T010000
END:DAYLIGHT
BEGIN:STANDARD
TZOFFSETFROM:+0200
TZOFFSETTO:+0100
TZNAME:CET
DTSTART:20251026T010000
END:STANDARD
BEGIN:DAYLIGHT
TZOFFSETFROM:+0100
TZOFFSETTO:+0200
TZNAME:CEST
DTSTART:20260329T010000
END:DAYLIGHT
BEGIN:STANDARD
TZOFFSETFROM:+0200
TZOFFSETTO:+0100
TZNAME:CET
DTSTART:20261025T010000
END:STANDARD
BEGIN:DAYLIGHT
TZOFFSETFROM:+0100
TZOFFSETTO:+0200
TZNAME:CEST
DTSTART:20270328T010000
END:DAYLIGHT
BEGIN:STANDARD
TZOFFSETFROM:+0200
TZOFFSETTO:+0100
TZNAME:CET
DTSTART:20271031T010000
END:STANDARD
END:VTIMEZONE
BEGIN:VEVENT
DTSTART;TZID=Europe/Berlin:20260327T070000
DTEND;TZID=Europe/Berlin:20260327T130000
DTSTAMP:20260421T235121
CREATED:20260227T084042Z
LAST-MODIFIED:20260227T084042Z
UID:13291-1774594800-1774616400@spartipps-hx.de
SUMMARY:Wochenmarkt Bad Driburg
DESCRIPTION:Ort: Bereich zwischen Schulstraße und Freiheit (Innenstadt).
URL:https://spartipps-hx.de/veranstaltungen/wochenmarkt-bad-driburg-16/
END:VEVENT
BEGIN:VEVENT
DTSTART;TZID=Europe/Berlin:20260327T080000
DTEND;TZID=Europe/Berlin:20260327T120000
DTSTAMP:20260421T235121
CREATED:20260227T084048Z
LAST-MODIFIED:20260227T084048Z
UID:13283-1774598400-1774612800@spartipps-hx.de
SUMMARY:Wochenmarkt Brakel
DESCRIPTION:Marktplatz Brakel
URL:https://spartipps-hx.de/veranstaltungen/wochenmarkt-brakel-8/
END:VEVENT
END:VCALENDAR