BEGIN:VCALENDAR
VERSION:2.0
PRODID:-//Spartipps f&uuml;r H&ouml;xter - ECPv6.15.20//NONSGML v1.0//EN
CALSCALE:GREGORIAN
METHOD:PUBLISH
X-WR-CALNAME:Spartipps f&uuml;r H&ouml;xter
X-ORIGINAL-URL:https://spartipps-hx.de
X-WR-CALDESC:Veranstaltungen für Spartipps f&uuml;r H&ouml;xter
REFRESH-INTERVAL;VALUE=DURATION:PT1H
X-Robots-Tag:noindex
X-PUBLISHED-TTL:PT1H
BEGIN:VTIMEZONE
TZID:Europe/Berlin
BEGIN:DAYLIGHT
TZOFFSETFROM:+0100
TZOFFSETTO:+0200
TZNAME:CEST
DTSTART:20250330T010000
END:DAYLIGHT
BEGIN:STANDARD
TZOFFSETFROM:+0200
TZOFFSETTO:+0100
TZNAME:CET
DTSTART:20251026T010000
END:STANDARD
BEGIN:DAYLIGHT
TZOFFSETFROM:+0100
TZOFFSETTO:+0200
TZNAME:CEST
DTSTART:20260329T010000
END:DAYLIGHT
BEGIN:STANDARD
TZOFFSETFROM:+0200
TZOFFSETTO:+0100
TZNAME:CET
DTSTART:20261025T010000
END:STANDARD
BEGIN:DAYLIGHT
TZOFFSETFROM:+0100
TZOFFSETTO:+0200
TZNAME:CEST
DTSTART:20270328T010000
END:DAYLIGHT
BEGIN:STANDARD
TZOFFSETFROM:+0200
TZOFFSETTO:+0100
TZNAME:CET
DTSTART:20271031T010000
END:STANDARD
END:VTIMEZONE
BEGIN:VEVENT
DTSTART;TZID=Europe/Berlin:20260325T080000
DTEND;TZID=Europe/Berlin:20260325T130000
DTSTAMP:20260421T235122
CREATED:20260227T084031Z
LAST-MODIFIED:20260227T084031Z
UID:13273-1774425600-1774443600@spartipps-hx.de
SUMMARY:Wochenmarkt Höxter
DESCRIPTION:Innenstadt Höxter
URL:https://spartipps-hx.de/veranstaltungen/wochenmarkt-hoexter-92/
END:VEVENT
BEGIN:VEVENT
DTSTART;TZID=Europe/Berlin:20260325T080000
DTEND;TZID=Europe/Berlin:20260325T170000
DTSTAMP:20260421T235122
CREATED:20260401T082220Z
LAST-MODIFIED:20260401T082220Z
UID:13712-1774425600-1774458000@spartipps-hx.de
SUMMARY:Osterfeuer Brenkhausen
DESCRIPTION:Veranstaltungsort: \nRußloh\, Brenkhausen
URL:https://spartipps-hx.de/veranstaltungen/osterfeuer-brenkhausen/
END:VEVENT
BEGIN:VEVENT
DTSTART;TZID=Europe/Berlin:20260325T100000
DTEND;TZID=Europe/Berlin:20260325T110000
DTSTAMP:20260421T235122
CREATED:20260401T082214Z
LAST-MODIFIED:20260401T082214Z
UID:13699-1774432800-1774436400@spartipps-hx.de
SUMMARY:Der Weg zum gesunden Laufstil
DESCRIPTION:Veranstaltungsort \n\n\n\n\nÖlmühle Solling\nHöxtersche Straße 3\n37691 Boffzen
URL:https://spartipps-hx.de/veranstaltungen/der-weg-zum-gesunden-laufstil/
END:VEVENT
BEGIN:VEVENT
DTSTART;TZID=Europe/Berlin:20260325T160000
DTEND;TZID=Europe/Berlin:20260325T180000
DTSTAMP:20260421T235122
CREATED:20260227T084037Z
LAST-MODIFIED:20260227T084037Z
UID:13332-1774454400-1774461600@spartipps-hx.de
SUMMARY:Staffellauf der Flüchtlingshilfe Brakel
DESCRIPTION:Ort:\n\nBrakeler Thermo-Glas-Stadtion\, Pahenwinkel\, 33034 Brakel
URL:https://spartipps-hx.de/veranstaltungen/staffellauf-der-fluechtlingshilfe-brakel/
END:VEVENT
END:VCALENDAR