BEGIN:VCALENDAR
VERSION:2.0
PRODID:-//Spartipps f&uuml;r H&ouml;xter - ECPv6.15.20//NONSGML v1.0//EN
CALSCALE:GREGORIAN
METHOD:PUBLISH
X-ORIGINAL-URL:https://spartipps-hx.de
X-WR-CALDESC:Veranstaltungen für Spartipps f&uuml;r H&ouml;xter
REFRESH-INTERVAL;VALUE=DURATION:PT1H
X-Robots-Tag:noindex
X-PUBLISHED-TTL:PT1H
BEGIN:VTIMEZONE
TZID:Europe/Berlin
BEGIN:DAYLIGHT
TZOFFSETFROM:+0100
TZOFFSETTO:+0200
TZNAME:CEST
DTSTART:20250330T010000
END:DAYLIGHT
BEGIN:STANDARD
TZOFFSETFROM:+0200
TZOFFSETTO:+0100
TZNAME:CET
DTSTART:20251026T010000
END:STANDARD
BEGIN:DAYLIGHT
TZOFFSETFROM:+0100
TZOFFSETTO:+0200
TZNAME:CEST
DTSTART:20260329T010000
END:DAYLIGHT
BEGIN:STANDARD
TZOFFSETFROM:+0200
TZOFFSETTO:+0100
TZNAME:CET
DTSTART:20261025T010000
END:STANDARD
BEGIN:DAYLIGHT
TZOFFSETFROM:+0100
TZOFFSETTO:+0200
TZNAME:CEST
DTSTART:20270328T010000
END:DAYLIGHT
BEGIN:STANDARD
TZOFFSETFROM:+0200
TZOFFSETTO:+0100
TZNAME:CET
DTSTART:20271031T010000
END:STANDARD
END:VTIMEZONE
BEGIN:VEVENT
DTSTART;TZID=Europe/Berlin:20260318T080000
DTEND;TZID=Europe/Berlin:20260318T130000
DTSTAMP:20260423T121354
CREATED:20260227T083821Z
LAST-MODIFIED:20260227T083821Z
UID:13269-1773820800-1773838800@spartipps-hx.de
SUMMARY:Wochenmarkt Höxter
DESCRIPTION:Innenstadt Höxter
URL:https://spartipps-hx.de/veranstaltungen/wochenmarkt-hoexter-90/
END:VEVENT
BEGIN:VEVENT
DTSTART;TZID=Europe/Berlin:20260318T080000
DTEND;TZID=Europe/Berlin:20260318T170000
DTSTAMP:20260423T121354
CREATED:20260227T083834Z
LAST-MODIFIED:20260227T083834Z
UID:13321-1773820800-1773853200@spartipps-hx.de
SUMMARY:LeseEntdecker „Eine kurze Geschichte des menschlichen Körpers“ von Bill Bryson; Bücherei Höxter
DESCRIPTION:Anmeldung erforderlich! \n  \nVeranstaltungsort\nStadtbücherei\nMöllinger Straße 9\n37671 Höxter
URL:https://spartipps-hx.de/veranstaltungen/leseentdecker-eine-kurze-geschichte-des-menschlichen-koerpers-von-bill-bryson-buecherei-hoexter/
END:VEVENT
BEGIN:VEVENT
DTSTART;TZID=Europe/Berlin:20260318T160000
DTEND;TZID=Europe/Berlin:20260318T190000
DTSTAMP:20260423T121354
CREATED:20260227T083840Z
LAST-MODIFIED:20260227T083840Z
UID:13247-1773849600-1773860400@spartipps-hx.de
SUMMARY:Kultur- und Reparaturwerkstatt Brenkhausen
DESCRIPTION:Dorfgemeinschaftshaus Alte Schule\, Mühlenstr. 7\, 37671 Höxter \nSpezialisierung Textilien und Fahrräder
URL:https://spartipps-hx.de/veranstaltungen/kultur-und-reparaturwerkstatt-brenkhausen-2/
END:VEVENT
BEGIN:VEVENT
DTSTART;TZID=Europe/Berlin:20260318T183000
DTEND;TZID=Europe/Berlin:20260318T200000
DTSTAMP:20260423T121354
CREATED:20260227T083844Z
LAST-MODIFIED:20260227T083844Z
UID:13315-1773858600-1773864000@spartipps-hx.de
SUMMARY:Das Wunder von Höxter - Buchvorstellung mit Fotopräsentationen (Anmeldung erforderlich)
DESCRIPTION:Kursort\nVHS\, Aula\nMöllingerstrasse 9\n37671 Höxter
URL:https://spartipps-hx.de/veranstaltungen/das-wunder-von-hoexter-buchvorstellung-mit-fotopraesentationen-anmeldung-erforderlich/
END:VEVENT
BEGIN:VEVENT
DTSTART;TZID=Europe/Berlin:20260318T193000
DTEND;TZID=Europe/Berlin:20260318T210000
DTSTAMP:20260423T121354
CREATED:20260227T083849Z
LAST-MODIFIED:20260227T083849Z
UID:13323-1773862200-1773867600@spartipps-hx.de
SUMMARY:Bücher im Gespräch im Forum Jacob Pins | Höxter
DESCRIPTION:Kontakt \n\n\n\n\nForum Jacob Pins\nWesterbachstraße 35-37\n37671 Höxter – Kernstadt
URL:https://spartipps-hx.de/veranstaltungen/buecher-im-gespraech-im-forum-jacob-pins-hoexter-2/
END:VEVENT
END:VCALENDAR