BEGIN:VCALENDAR
VERSION:2.0
PRODID:-//Spartipps f&uuml;r H&ouml;xter - ECPv6.15.20//NONSGML v1.0//EN
CALSCALE:GREGORIAN
METHOD:PUBLISH
X-WR-CALNAME:Spartipps f&uuml;r H&ouml;xter
X-ORIGINAL-URL:https://spartipps-hx.de
X-WR-CALDESC:Veranstaltungen für Spartipps f&uuml;r H&ouml;xter
REFRESH-INTERVAL;VALUE=DURATION:PT1H
X-Robots-Tag:noindex
X-PUBLISHED-TTL:PT1H
BEGIN:VTIMEZONE
TZID:Europe/Berlin
BEGIN:DAYLIGHT
TZOFFSETFROM:+0100
TZOFFSETTO:+0200
TZNAME:CEST
DTSTART:20250330T010000
END:DAYLIGHT
BEGIN:STANDARD
TZOFFSETFROM:+0200
TZOFFSETTO:+0100
TZNAME:CET
DTSTART:20251026T010000
END:STANDARD
BEGIN:DAYLIGHT
TZOFFSETFROM:+0100
TZOFFSETTO:+0200
TZNAME:CEST
DTSTART:20260329T010000
END:DAYLIGHT
BEGIN:STANDARD
TZOFFSETFROM:+0200
TZOFFSETTO:+0100
TZNAME:CET
DTSTART:20261025T010000
END:STANDARD
BEGIN:DAYLIGHT
TZOFFSETFROM:+0100
TZOFFSETTO:+0200
TZNAME:CEST
DTSTART:20270328T010000
END:DAYLIGHT
BEGIN:STANDARD
TZOFFSETFROM:+0200
TZOFFSETTO:+0100
TZNAME:CET
DTSTART:20271031T010000
END:STANDARD
END:VTIMEZONE
BEGIN:VEVENT
DTSTART;TZID=Europe/Berlin:20260314T080000
DTEND;TZID=Europe/Berlin:20260314T130000
DTSTAMP:20260421T235126
CREATED:20260227T083721Z
LAST-MODIFIED:20260227T083721Z
UID:13265-1773475200-1773493200@spartipps-hx.de
SUMMARY:Wochenmarkt Höxter
DESCRIPTION:Innenstadt Höxter
URL:https://spartipps-hx.de/veranstaltungen/wochenmarkt-hoexter-89/
END:VEVENT
BEGIN:VEVENT
DTSTART;TZID=Europe/Berlin:20260314T103000
DTEND;TZID=Europe/Berlin:20260314T170000
DTSTAMP:20260421T235126
CREATED:20260227T083804Z
LAST-MODIFIED:20260227T083804Z
UID:13376-1773484200-1773507600@spartipps-hx.de
SUMMARY:Puste-Buddel-Börse Flohmarkt in Steinheim
DESCRIPTION:Ort:\n\n\n\nStadthalle Steinheim \nSchützenplatzallee 3\n32839 Steinheim
URL:https://spartipps-hx.de/veranstaltungen/puste-buddel-boerse-flohmarkt-in-steinheim/
END:VEVENT
BEGIN:VEVENT
DTSTART;TZID=Europe/Berlin:20260314T140000
DTEND;TZID=Europe/Berlin:20260314T170000
DTSTAMP:20260421T235126
CREATED:20260227T083810Z
LAST-MODIFIED:20260227T083810Z
UID:13349-1773496800-1773507600@spartipps-hx.de
SUMMARY:Geführte Wanderung nördlicher Sachsenring Bad Driburg
DESCRIPTION:Treffpunkt \nWanderinfopunkt am Bahnübergang – Bad Driburg\nLange Straße 140\n33014 Bad Driburg
URL:https://spartipps-hx.de/veranstaltungen/gefuehrte-wanderung-noerdlicher-sachsenring-bad-driburg-2/
END:VEVENT
END:VCALENDAR