BEGIN:VCALENDAR
VERSION:2.0
PRODID:-//Spartipps f&uuml;r H&ouml;xter - ECPv6.15.20//NONSGML v1.0//EN
CALSCALE:GREGORIAN
METHOD:PUBLISH
X-WR-CALNAME:Spartipps f&uuml;r H&ouml;xter
X-ORIGINAL-URL:https://spartipps-hx.de
X-WR-CALDESC:Veranstaltungen für Spartipps f&uuml;r H&ouml;xter
REFRESH-INTERVAL;VALUE=DURATION:PT1H
X-Robots-Tag:noindex
X-PUBLISHED-TTL:PT1H
BEGIN:VTIMEZONE
TZID:Europe/Berlin
BEGIN:DAYLIGHT
TZOFFSETFROM:+0100
TZOFFSETTO:+0200
TZNAME:CEST
DTSTART:20250330T010000
END:DAYLIGHT
BEGIN:STANDARD
TZOFFSETFROM:+0200
TZOFFSETTO:+0100
TZNAME:CET
DTSTART:20251026T010000
END:STANDARD
BEGIN:DAYLIGHT
TZOFFSETFROM:+0100
TZOFFSETTO:+0200
TZNAME:CEST
DTSTART:20260329T010000
END:DAYLIGHT
BEGIN:STANDARD
TZOFFSETFROM:+0200
TZOFFSETTO:+0100
TZNAME:CET
DTSTART:20261025T010000
END:STANDARD
BEGIN:DAYLIGHT
TZOFFSETFROM:+0100
TZOFFSETTO:+0200
TZNAME:CEST
DTSTART:20270328T010000
END:DAYLIGHT
BEGIN:STANDARD
TZOFFSETFROM:+0200
TZOFFSETTO:+0100
TZNAME:CET
DTSTART:20271031T010000
END:STANDARD
END:VTIMEZONE
BEGIN:VEVENT
DTSTART;TZID=Europe/Berlin:20260311T080000
DTEND;TZID=Europe/Berlin:20260311T130000
DTSTAMP:20260423T140317
CREATED:20260227T083646Z
LAST-MODIFIED:20260227T083646Z
UID:13263-1773216000-1773234000@spartipps-hx.de
SUMMARY:Wochenmarkt Höxter
DESCRIPTION:Höxter Innenstadt
URL:https://spartipps-hx.de/veranstaltungen/wochenmarkt-hoexter-88/
END:VEVENT
BEGIN:VEVENT
DTSTART;TZID=Europe/Berlin:20260311T150000
DTEND;TZID=Europe/Berlin:20260311T160000
DTSTAMP:20260423T140317
CREATED:20260227T083652Z
LAST-MODIFIED:20260227T083652Z
UID:13311-1773241200-1773244800@spartipps-hx.de
SUMMARY:Vorlesestunde mit Bilderbuchkino und Basteln (Stadtbücherei Höxter; Anmeldung erforderlich))
DESCRIPTION:„Ein Funkeln im Dunkeln“ von Marie Voigt \nAnmeldung ab 03.03. möglich \nVeranstaltungsort\nStadtbücherei\nMöllinger Straße 9\n37671 Höxter
URL:https://spartipps-hx.de/veranstaltungen/vorlesestunde-mit-bilderbuchkino-und-basteln-stadtbuecherei-hoexter-anmeldung-erforderlich/
END:VEVENT
BEGIN:VEVENT
DTSTART;TZID=Europe/Berlin:20260311T180000
DTEND;TZID=Europe/Berlin:20260311T193000
DTSTAMP:20260423T140317
CREATED:20260227T083658Z
LAST-MODIFIED:20260227T083658Z
UID:13313-1773252000-1773257400@spartipps-hx.de
SUMMARY:Vortrag: Finanzen im Griff: So gelingt Frauen der Weg zur wirtschaftlichen Unabhängigkeit
DESCRIPTION:Veranstaltungsort\nIn den Räumen in der Aktion Silberfisch\nNeue Straße 15\n37671 Höxter
URL:https://spartipps-hx.de/veranstaltungen/vortrag-finanzen-im-griff-so-gelingt-frauen-der-weg-zur-wirtschaftlichen-unabhaengigkeit/
END:VEVENT
END:VCALENDAR