BEGIN:VCALENDAR
VERSION:2.0
PRODID:-//Spartipps f&uuml;r H&ouml;xter - ECPv6.15.20//NONSGML v1.0//EN
CALSCALE:GREGORIAN
METHOD:PUBLISH
X-WR-CALNAME:Spartipps f&uuml;r H&ouml;xter
X-ORIGINAL-URL:https://spartipps-hx.de
X-WR-CALDESC:Veranstaltungen für Spartipps f&uuml;r H&ouml;xter
REFRESH-INTERVAL;VALUE=DURATION:PT1H
X-Robots-Tag:noindex
X-PUBLISHED-TTL:PT1H
BEGIN:VTIMEZONE
TZID:Europe/Berlin
BEGIN:DAYLIGHT
TZOFFSETFROM:+0100
TZOFFSETTO:+0200
TZNAME:CEST
DTSTART:20250330T010000
END:DAYLIGHT
BEGIN:STANDARD
TZOFFSETFROM:+0200
TZOFFSETTO:+0100
TZNAME:CET
DTSTART:20251026T010000
END:STANDARD
BEGIN:DAYLIGHT
TZOFFSETFROM:+0100
TZOFFSETTO:+0200
TZNAME:CEST
DTSTART:20260329T010000
END:DAYLIGHT
BEGIN:STANDARD
TZOFFSETFROM:+0200
TZOFFSETTO:+0100
TZNAME:CET
DTSTART:20261025T010000
END:STANDARD
BEGIN:DAYLIGHT
TZOFFSETFROM:+0100
TZOFFSETTO:+0200
TZNAME:CEST
DTSTART:20270328T010000
END:DAYLIGHT
BEGIN:STANDARD
TZOFFSETFROM:+0200
TZOFFSETTO:+0100
TZNAME:CET
DTSTART:20271031T010000
END:STANDARD
END:VTIMEZONE
BEGIN:VEVENT
DTSTART;TZID=Europe/Berlin:20260303T090000
DTEND;TZID=Europe/Berlin:20260303T120000
DTSTAMP:20260421T235121
CREATED:20260223T114421Z
LAST-MODIFIED:20260223T114421Z
UID:13242-1772528400-1772539200@spartipps-hx.de
SUMMARY:Nistkästen für den Garten: Projekt AGH Bielenberg verschenkt selbstgebaute Vogelwohnungen
DESCRIPTION:Das Projekt Bielenberg sorgt mit einer besonderen Aktion für Freude bei Natur- und Vogelfreunden: Am Dienstag\, 3. März\, verschenken die Teilnehmer kostenlos selbstgebaute Nistkästen im Haus der Volkshochschule Höxter-Marienmünster\, Möllingerstraße 9. Zwischen 9 und 12 Uhr sind Interessierte eingeladen\, sich eine der robusten Nisthilfen abzuholen. \nDie AGH (Arbeitsgelegenheit) wird in Kooperation von VHS Höxter-Marienmünster\, dem Jobcenter\, dem Naturkundlichen Verein Egge-Weser und der Landschaftsstation im Kreis Höxter betreut. Die Teilnehmer – derzeit acht Männer – gehören zu einer Eingliederungsmaßnahme des Jobcenters\, die ihnen als mittelfristige Brücke in den allgemeinen Arbeitsmarkt dient. Unter der Anleitung von Projektleiter Nils Nagusch wird auf dem Gelände am Bielenberg tatkräftig gearbeitet. In den letzten Monaten sind eine Nisthilfen-Steilwand für Wildbienen und neue Sitzmöglichkeiten für das grüne Klassenzimmer entstanden. \nHintergrund der Vogelwohnungs-Aktion: Am Bielenberg sind viele Eschen dem Eschentriebsterben zum Opfer gefallen. Die Bäume wurden von einem Pilz befallen und mussten gefällt werden. Aus den übrig gebliebenen Baumstämmen entstanden in Handarbeit stabile Nistkästen – ausgestattet mit wetterfestem Dach und praktischer Aufhängung. Die Vogelwohnungen haben unterschiedliche Einfluglöcher und sind u.a. für Stare\, Meisen und Kleiber interessant. „Die Teilnehmer haben Spaß an der handwerklichen Arbeit und freuen sich über die schönen Ergebnisse“\, betont Nils Nagusch. Auch Dr. Claudia Gehle\, die stellvertretende VHS-Leiterin\, ist begeistert vom Ergebnis. Die Nistkästen sollen heimischen Vögeln ein sicheres Zuhause bieten. \nWer einen Nistkasten erhalten möchte\, sollte am 3. März zwischen 9 und 12 Uhr ins Haus der VHS kommen – solange der Vorrat reicht.
URL:https://spartipps-hx.de/veranstaltungen/nistkaesten-fuer-den-garten-projekt-agh-bielenberg-verschenkt-selbstgebaute-vogelwohnungen/
LOCATION:Haus der VHS Höxter
END:VEVENT
END:VCALENDAR