BEGIN:VCALENDAR
VERSION:2.0
PRODID:-//Spartipps f&uuml;r H&ouml;xter - ECPv6.15.20//NONSGML v1.0//EN
CALSCALE:GREGORIAN
METHOD:PUBLISH
X-ORIGINAL-URL:https://spartipps-hx.de
X-WR-CALDESC:Veranstaltungen für Spartipps f&uuml;r H&ouml;xter
REFRESH-INTERVAL;VALUE=DURATION:PT1H
X-Robots-Tag:noindex
X-PUBLISHED-TTL:PT1H
BEGIN:VTIMEZONE
TZID:Europe/Berlin
BEGIN:DAYLIGHT
TZOFFSETFROM:+0100
TZOFFSETTO:+0200
TZNAME:CEST
DTSTART:20250330T010000
END:DAYLIGHT
BEGIN:STANDARD
TZOFFSETFROM:+0200
TZOFFSETTO:+0100
TZNAME:CET
DTSTART:20251026T010000
END:STANDARD
BEGIN:DAYLIGHT
TZOFFSETFROM:+0100
TZOFFSETTO:+0200
TZNAME:CEST
DTSTART:20260329T010000
END:DAYLIGHT
BEGIN:STANDARD
TZOFFSETFROM:+0200
TZOFFSETTO:+0100
TZNAME:CET
DTSTART:20261025T010000
END:STANDARD
BEGIN:DAYLIGHT
TZOFFSETFROM:+0100
TZOFFSETTO:+0200
TZNAME:CEST
DTSTART:20270328T010000
END:DAYLIGHT
BEGIN:STANDARD
TZOFFSETFROM:+0200
TZOFFSETTO:+0100
TZNAME:CET
DTSTART:20271031T010000
END:STANDARD
END:VTIMEZONE
BEGIN:VEVENT
DTSTART;TZID=Europe/Berlin:20260302T170000
DTEND;TZID=Europe/Berlin:20260302T180000
DTSTAMP:20260421T221550
CREATED:20260227T083431Z
LAST-MODIFIED:20260227T083431Z
UID:13301-1772470800-1772474400@spartipps-hx.de
SUMMARY:Podiumsdiskussion: Frauen im Handwerk (Ort: Höxter)
DESCRIPTION:Dechanei Höxter \nMarkstr. 19
URL:https://spartipps-hx.de/veranstaltungen/podiumsdiskussion-frauen-im-handwerk-ort-hoexter/
END:VEVENT
BEGIN:VEVENT
DTSTART;TZID=Europe/Berlin:20260302T180000
DTEND;TZID=Europe/Berlin:20260302T180000
DTSTAMP:20260421T221550
CREATED:20260227T083438Z
LAST-MODIFIED:20260227T083438Z
UID:13303-1772474400-1772474400@spartipps-hx.de
SUMMARY:Papierfalter - für Kinder ab 9 Jahre in der Stadtbücherei Höxter (Anmeldung erforderlich)
DESCRIPTION:Veranstaltungsort\nStadtbücherei\nMöllinger Straße 9\n37671 Höxter
URL:https://spartipps-hx.de/veranstaltungen/papierfalter-fuer-kinder-ab-9-jahre-in-der-stadtbuecherei-hoexter-anmeldung-erforderlich/
END:VEVENT
END:VCALENDAR