BEGIN:VCALENDAR
VERSION:2.0
PRODID:-//Spartipps f&uuml;r H&ouml;xter - ECPv6.15.20//NONSGML v1.0//EN
CALSCALE:GREGORIAN
METHOD:PUBLISH
X-ORIGINAL-URL:https://spartipps-hx.de
X-WR-CALDESC:Veranstaltungen für Spartipps f&uuml;r H&ouml;xter
REFRESH-INTERVAL;VALUE=DURATION:PT1H
X-Robots-Tag:noindex
X-PUBLISHED-TTL:PT1H
BEGIN:VTIMEZONE
TZID:Europe/Berlin
BEGIN:DAYLIGHT
TZOFFSETFROM:+0100
TZOFFSETTO:+0200
TZNAME:CEST
DTSTART:20250330T010000
END:DAYLIGHT
BEGIN:STANDARD
TZOFFSETFROM:+0200
TZOFFSETTO:+0100
TZNAME:CET
DTSTART:20251026T010000
END:STANDARD
BEGIN:DAYLIGHT
TZOFFSETFROM:+0100
TZOFFSETTO:+0200
TZNAME:CEST
DTSTART:20260329T010000
END:DAYLIGHT
BEGIN:STANDARD
TZOFFSETFROM:+0200
TZOFFSETTO:+0100
TZNAME:CET
DTSTART:20261025T010000
END:STANDARD
BEGIN:DAYLIGHT
TZOFFSETFROM:+0100
TZOFFSETTO:+0200
TZNAME:CEST
DTSTART:20270328T010000
END:DAYLIGHT
BEGIN:STANDARD
TZOFFSETFROM:+0200
TZOFFSETTO:+0100
TZNAME:CET
DTSTART:20271031T010000
END:STANDARD
END:VTIMEZONE
BEGIN:VEVENT
DTSTART;TZID=Europe/Berlin:20260221T080000
DTEND;TZID=Europe/Berlin:20260221T130000
DTSTAMP:20260423T160247
CREATED:20260130T100132Z
LAST-MODIFIED:20260130T100132Z
UID:12964-1771660800-1771678800@spartipps-hx.de
SUMMARY:Wochenmarkt Höxter
DESCRIPTION:Innenstadt Höxter
URL:https://spartipps-hx.de/veranstaltungen/wochenmarkt-hoexter-83/
END:VEVENT
BEGIN:VEVENT
DTSTART;TZID=Europe/Berlin:20260221T080000
DTEND;TZID=Europe/Berlin:20260221T140000
DTSTAMP:20260423T160247
CREATED:20260130T100136Z
LAST-MODIFIED:20260130T100136Z
UID:13012-1771660800-1771682400@spartipps-hx.de
SUMMARY:Wochenmarkt Holzminden
DESCRIPTION:Innenstadt Holzminden
URL:https://spartipps-hx.de/veranstaltungen/wochenmarkt-holzminden-6/
END:VEVENT
BEGIN:VEVENT
DTSTART;TZID=Europe/Berlin:20260221T140000
DTEND;TZID=Europe/Berlin:20260221T170000
DTSTAMP:20260423T160247
CREATED:20260130T100139Z
LAST-MODIFIED:20260130T100139Z
UID:13076-1771682400-1771693200@spartipps-hx.de
SUMMARY:Geführte Wanderung auf den Spuren von Dichtern und Denkern (Region Bad Driburg)
DESCRIPTION:Wanderinfopunkt am Bahnübergang – Bad Driburg\nLange Straße 140\n33014 Bad Driburg\n\nKosten: 3 € mit Kurkarte / 4 € ohne Kurkarte
URL:https://spartipps-hx.de/veranstaltungen/gefuehrte-wanderung-auf-den-spuren-von-dichtern-und-denkern-region-bad-driburg/
END:VEVENT
BEGIN:VEVENT
DTSTART;TZID=Europe/Berlin:20260221T170000
DTEND;TZID=Europe/Berlin:20260221T183000
DTSTAMP:20260423T160247
CREATED:20260130T100142Z
LAST-MODIFIED:20260130T100142Z
UID:12949-1771693200-1771698600@spartipps-hx.de
SUMMARY:Musikschulkonzert "Tierisch gut"
DESCRIPTION:Veranstaltungsort\nAula des König-Wilhelm-Gymnasiums\nIm Flor 11\n37671 Höxter
URL:https://spartipps-hx.de/veranstaltungen/musikschulkonzert-tierisch-gut/
END:VEVENT
END:VCALENDAR