BEGIN:VCALENDAR
VERSION:2.0
PRODID:-//Spartipps f&uuml;r H&ouml;xter - ECPv6.15.20//NONSGML v1.0//EN
CALSCALE:GREGORIAN
METHOD:PUBLISH
X-WR-CALNAME:Spartipps f&uuml;r H&ouml;xter
X-ORIGINAL-URL:https://spartipps-hx.de
X-WR-CALDESC:Veranstaltungen für Spartipps f&uuml;r H&ouml;xter
REFRESH-INTERVAL;VALUE=DURATION:PT1H
X-Robots-Tag:noindex
X-PUBLISHED-TTL:PT1H
BEGIN:VTIMEZONE
TZID:Europe/Berlin
BEGIN:DAYLIGHT
TZOFFSETFROM:+0100
TZOFFSETTO:+0200
TZNAME:CEST
DTSTART:20250330T010000
END:DAYLIGHT
BEGIN:STANDARD
TZOFFSETFROM:+0200
TZOFFSETTO:+0100
TZNAME:CET
DTSTART:20251026T010000
END:STANDARD
BEGIN:DAYLIGHT
TZOFFSETFROM:+0100
TZOFFSETTO:+0200
TZNAME:CEST
DTSTART:20260329T010000
END:DAYLIGHT
BEGIN:STANDARD
TZOFFSETFROM:+0200
TZOFFSETTO:+0100
TZNAME:CET
DTSTART:20261025T010000
END:STANDARD
BEGIN:DAYLIGHT
TZOFFSETFROM:+0100
TZOFFSETTO:+0200
TZNAME:CEST
DTSTART:20270328T010000
END:DAYLIGHT
BEGIN:STANDARD
TZOFFSETFROM:+0200
TZOFFSETTO:+0100
TZNAME:CET
DTSTART:20271031T010000
END:STANDARD
END:VTIMEZONE
BEGIN:VEVENT
DTSTART;TZID=Europe/Berlin:20260218T080000
DTEND;TZID=Europe/Berlin:20260218T130000
DTSTAMP:20260423T180335
CREATED:20260130T100038Z
LAST-MODIFIED:20260130T100038Z
UID:12962-1771401600-1771419600@spartipps-hx.de
SUMMARY:Wochenmarkt Höxter
DESCRIPTION:Innenstadt Höxter
URL:https://spartipps-hx.de/veranstaltungen/wochenmarkt-hoexter-82/
END:VEVENT
BEGIN:VEVENT
DTSTART;TZID=Europe/Berlin:20260218T080000
DTEND;TZID=Europe/Berlin:20260218T140000
DTSTAMP:20260423T180335
CREATED:20260130T100042Z
LAST-MODIFIED:20260130T100042Z
UID:13010-1771401600-1771423200@spartipps-hx.de
SUMMARY:Wochenmarkt Holzminden
DESCRIPTION:Innenstadt Holzminden
URL:https://spartipps-hx.de/veranstaltungen/wochenmarkt-holzminden-5/
END:VEVENT
BEGIN:VEVENT
DTSTART;TZID=Europe/Berlin:20260218T140000
DTEND;TZID=Europe/Berlin:20260218T180000
DTSTAMP:20260423T180335
CREATED:20260130T100045Z
LAST-MODIFIED:20260130T100045Z
UID:13036-1771423200-1771437600@spartipps-hx.de
SUMMARY:Wochenmarkt Warburg
DESCRIPTION:Altstadt Warburg
URL:https://spartipps-hx.de/veranstaltungen/wochenmarkt-warburg-3/
END:VEVENT
BEGIN:VEVENT
DTSTART;TZID=Europe/Berlin:20260218T160000
DTEND;TZID=Europe/Berlin:20260218T190000
DTSTAMP:20260423T180335
CREATED:20260130T100049Z
LAST-MODIFIED:20260130T100049Z
UID:12943-1771430400-1771441200@spartipps-hx.de
SUMMARY:Reparaturwerkstatt für Elektro / Textilien / Fahrräder
DESCRIPTION:Veranstaltungsort\nDorfgemeinschaftshaus „Alte Schule“\, Brenkhausen \nAm Mühlenhof 1\, 37671 Höxter
URL:https://spartipps-hx.de/veranstaltungen/reparaturwerkstatt-fuer-elektro-textilien-fahrraeder/
END:VEVENT
BEGIN:VEVENT
DTSTART;TZID=Europe/Berlin:20260218T160000
DTEND;TZID=Europe/Berlin:20260218T190000
DTSTAMP:20260423T180335
CREATED:20260130T100052Z
LAST-MODIFIED:20260130T100052Z
UID:13044-1771430400-1771441200@spartipps-hx.de
SUMMARY:Kultur- und Reparaturwerkstatt Brenkhausen
DESCRIPTION:Dorfgemeinschaftshaus Alte Schule\, Mühlenstr. 7\, 37671 Höxter-Brenkhausen \nspezialisiert auf Fahrräder und Textilien
URL:https://spartipps-hx.de/veranstaltungen/kultur-und-reparaturwerkstatt-brenkhausen/
END:VEVENT
END:VCALENDAR