BEGIN:VCALENDAR
VERSION:2.0
PRODID:-//Spartipps f&uuml;r H&ouml;xter - ECPv6.15.20//NONSGML v1.0//EN
CALSCALE:GREGORIAN
METHOD:PUBLISH
X-ORIGINAL-URL:https://spartipps-hx.de
X-WR-CALDESC:Veranstaltungen für Spartipps f&uuml;r H&ouml;xter
REFRESH-INTERVAL;VALUE=DURATION:PT1H
X-Robots-Tag:noindex
X-PUBLISHED-TTL:PT1H
BEGIN:VTIMEZONE
TZID:Europe/Berlin
BEGIN:DAYLIGHT
TZOFFSETFROM:+0100
TZOFFSETTO:+0200
TZNAME:CEST
DTSTART:20250330T010000
END:DAYLIGHT
BEGIN:STANDARD
TZOFFSETFROM:+0200
TZOFFSETTO:+0100
TZNAME:CET
DTSTART:20251026T010000
END:STANDARD
BEGIN:DAYLIGHT
TZOFFSETFROM:+0100
TZOFFSETTO:+0200
TZNAME:CEST
DTSTART:20260329T010000
END:DAYLIGHT
BEGIN:STANDARD
TZOFFSETFROM:+0200
TZOFFSETTO:+0100
TZNAME:CET
DTSTART:20261025T010000
END:STANDARD
BEGIN:DAYLIGHT
TZOFFSETFROM:+0100
TZOFFSETTO:+0200
TZNAME:CEST
DTSTART:20270328T010000
END:DAYLIGHT
BEGIN:STANDARD
TZOFFSETFROM:+0200
TZOFFSETTO:+0100
TZNAME:CET
DTSTART:20271031T010000
END:STANDARD
END:VTIMEZONE
BEGIN:VEVENT
DTSTART;TZID=Europe/Berlin:20260214T080000
DTEND;TZID=Europe/Berlin:20260214T130000
DTSTAMP:20260423T180401
CREATED:20260130T100000Z
LAST-MODIFIED:20260130T100000Z
UID:12958-1771056000-1771074000@spartipps-hx.de
SUMMARY:Wochenmarkt Höxter
DESCRIPTION:Innenstadt Höxter
URL:https://spartipps-hx.de/veranstaltungen/wochenmarkt-hoexter-81/
END:VEVENT
BEGIN:VEVENT
DTSTART;TZID=Europe/Berlin:20260214T080000
DTEND;TZID=Europe/Berlin:20260214T140000
DTSTAMP:20260423T180401
CREATED:20260130T100005Z
LAST-MODIFIED:20260130T100005Z
UID:13008-1771056000-1771077600@spartipps-hx.de
SUMMARY:Wochenmarkt Holzminden
DESCRIPTION:Innenstadt Holzminden
URL:https://spartipps-hx.de/veranstaltungen/wochenmarkt-holzminden-4/
END:VEVENT
BEGIN:VEVENT
DTSTART;TZID=Europe/Berlin:20260214T140000
DTEND;TZID=Europe/Berlin:20260214T170000
DTSTAMP:20260423T180401
CREATED:20260130T100012Z
LAST-MODIFIED:20260130T100012Z
UID:13062-1771077600-1771088400@spartipps-hx.de
SUMMARY:Karnevalsumzug in Brakel
DESCRIPTION:Karnevalsumzug: Innenstadt Brakel \nFeiern in den Partyzelten Rosenstraße und Feuerteichen im Anschluss
URL:https://spartipps-hx.de/veranstaltungen/karnevalsumzug-in-brakel/
END:VEVENT
BEGIN:VEVENT
DTSTART;TZID=Europe/Berlin:20260214T140000
DTEND;TZID=Europe/Berlin:20260214T170000
DTSTAMP:20260423T180401
CREATED:20260130T100018Z
LAST-MODIFIED:20260130T100018Z
UID:13070-1771077600-1771088400@spartipps-hx.de
SUMMARY:Geführte Wanderung über den Reelser Waldweg
DESCRIPTION:Treffpunkt: Wanderinfopunkt am Bahnübergang (Lange Str. 140)
URL:https://spartipps-hx.de/veranstaltungen/gefuehrte-wanderung-ueber-den-reelser-waldweg-4/
END:VEVENT
END:VCALENDAR