BEGIN:VCALENDAR
VERSION:2.0
PRODID:-//Spartipps f&uuml;r H&ouml;xter - ECPv6.15.20//NONSGML v1.0//EN
CALSCALE:GREGORIAN
METHOD:PUBLISH
X-WR-CALNAME:Spartipps f&uuml;r H&ouml;xter
X-ORIGINAL-URL:https://spartipps-hx.de
X-WR-CALDESC:Veranstaltungen für Spartipps f&uuml;r H&ouml;xter
REFRESH-INTERVAL;VALUE=DURATION:PT1H
X-Robots-Tag:noindex
X-PUBLISHED-TTL:PT1H
BEGIN:VTIMEZONE
TZID:Europe/Berlin
BEGIN:DAYLIGHT
TZOFFSETFROM:+0100
TZOFFSETTO:+0200
TZNAME:CEST
DTSTART:20250330T010000
END:DAYLIGHT
BEGIN:STANDARD
TZOFFSETFROM:+0200
TZOFFSETTO:+0100
TZNAME:CET
DTSTART:20251026T010000
END:STANDARD
BEGIN:DAYLIGHT
TZOFFSETFROM:+0100
TZOFFSETTO:+0200
TZNAME:CEST
DTSTART:20260329T010000
END:DAYLIGHT
BEGIN:STANDARD
TZOFFSETFROM:+0200
TZOFFSETTO:+0100
TZNAME:CET
DTSTART:20261025T010000
END:STANDARD
BEGIN:DAYLIGHT
TZOFFSETFROM:+0100
TZOFFSETTO:+0200
TZNAME:CEST
DTSTART:20270328T010000
END:DAYLIGHT
BEGIN:STANDARD
TZOFFSETFROM:+0200
TZOFFSETTO:+0100
TZNAME:CET
DTSTART:20271031T010000
END:STANDARD
END:VTIMEZONE
BEGIN:VEVENT
DTSTART;TZID=Europe/Berlin:20260212T160000
DTEND;TZID=Europe/Berlin:20260212T170000
DTSTAMP:20260423T160155
CREATED:20260130T095926Z
LAST-MODIFIED:20260130T095926Z
UID:12995-1770912000-1770915600@spartipps-hx.de
SUMMARY:Kamishibai Erzähltheater in der Stadtbücherei Holzminden (Anmeldung erfordl.)
DESCRIPTION:Weitere Informationen und Anmeldung während der Öffnungszeiten der Stadtbücherei: dienstags und donnerstags von 11 bis 18 Uhr\, mittwochs\, freitags und samstags von 10 bis 13 Uhr. Tel. 05531/93640 oder per E-Mail: buecherei@holzminden.de. Adresse: Obere Straße 30\, 37603 Holzminden.
URL:https://spartipps-hx.de/veranstaltungen/kamishibai-erzaehltheater-in-der-stadtbuecherei-holzminden-anmeldung-erfordl-2/
END:VEVENT
END:VCALENDAR