BEGIN:VCALENDAR
VERSION:2.0
PRODID:-//Spartipps f&uuml;r H&ouml;xter - ECPv6.15.20//NONSGML v1.0//EN
CALSCALE:GREGORIAN
METHOD:PUBLISH
X-ORIGINAL-URL:https://spartipps-hx.de
X-WR-CALDESC:Veranstaltungen für Spartipps f&uuml;r H&ouml;xter
REFRESH-INTERVAL;VALUE=DURATION:PT1H
X-Robots-Tag:noindex
X-PUBLISHED-TTL:PT1H
BEGIN:VTIMEZONE
TZID:Europe/Berlin
BEGIN:DAYLIGHT
TZOFFSETFROM:+0100
TZOFFSETTO:+0200
TZNAME:CEST
DTSTART:20250330T010000
END:DAYLIGHT
BEGIN:STANDARD
TZOFFSETFROM:+0200
TZOFFSETTO:+0100
TZNAME:CET
DTSTART:20251026T010000
END:STANDARD
BEGIN:DAYLIGHT
TZOFFSETFROM:+0100
TZOFFSETTO:+0200
TZNAME:CEST
DTSTART:20260329T010000
END:DAYLIGHT
BEGIN:STANDARD
TZOFFSETFROM:+0200
TZOFFSETTO:+0100
TZNAME:CET
DTSTART:20261025T010000
END:STANDARD
BEGIN:DAYLIGHT
TZOFFSETFROM:+0100
TZOFFSETTO:+0200
TZNAME:CEST
DTSTART:20270328T010000
END:DAYLIGHT
BEGIN:STANDARD
TZOFFSETFROM:+0200
TZOFFSETTO:+0100
TZNAME:CET
DTSTART:20271031T010000
END:STANDARD
END:VTIMEZONE
BEGIN:VEVENT
DTSTART;TZID=Europe/Berlin:20260207T170000
DTEND;TZID=Europe/Berlin:20260208T010000
DTSTAMP:20260425T153535
CREATED:20260130T095843Z
LAST-MODIFIED:20260130T095843Z
UID:12936-1770483600-1770512400@spartipps-hx.de
SUMMARY:Aprés Ski Party in Fürstenau
DESCRIPTION:Veranstaltungsort\nKöterbergstadion\, Fürstenau
URL:https://spartipps-hx.de/veranstaltungen/apres-ski-party-in-fuerstenau/
END:VEVENT
BEGIN:VEVENT
DTSTART;TZID=Europe/Berlin:20260208T140000
DTEND;TZID=Europe/Berlin:20260208T170000
DTSTAMP:20260425T153535
CREATED:20260130T095848Z
LAST-MODIFIED:20260130T095848Z
UID:13068-1770559200-1770570000@spartipps-hx.de
SUMMARY:Kinderkarneval der Rot-Weißen Garde e.V. Bad Driburg
DESCRIPTION:Schützenhaus Bad Driburg\nSchützenstraße\n33014 Bad Driburg
URL:https://spartipps-hx.de/veranstaltungen/kinderkarneval-der-rot-weissen-garde-e-v-bad-driburg/
END:VEVENT
END:VCALENDAR