BEGIN:VCALENDAR
VERSION:2.0
PRODID:-//Spartipps f&uuml;r H&ouml;xter - ECPv6.15.20//NONSGML v1.0//EN
CALSCALE:GREGORIAN
METHOD:PUBLISH
X-ORIGINAL-URL:https://spartipps-hx.de
X-WR-CALDESC:Veranstaltungen für Spartipps f&uuml;r H&ouml;xter
REFRESH-INTERVAL;VALUE=DURATION:PT1H
X-Robots-Tag:noindex
X-PUBLISHED-TTL:PT1H
BEGIN:VTIMEZONE
TZID:Europe/Berlin
BEGIN:DAYLIGHT
TZOFFSETFROM:+0100
TZOFFSETTO:+0200
TZNAME:CEST
DTSTART:20250330T010000
END:DAYLIGHT
BEGIN:STANDARD
TZOFFSETFROM:+0200
TZOFFSETTO:+0100
TZNAME:CET
DTSTART:20251026T010000
END:STANDARD
BEGIN:DAYLIGHT
TZOFFSETFROM:+0100
TZOFFSETTO:+0200
TZNAME:CEST
DTSTART:20260329T010000
END:DAYLIGHT
BEGIN:STANDARD
TZOFFSETFROM:+0200
TZOFFSETTO:+0100
TZNAME:CET
DTSTART:20261025T010000
END:STANDARD
BEGIN:DAYLIGHT
TZOFFSETFROM:+0100
TZOFFSETTO:+0200
TZNAME:CEST
DTSTART:20270328T010000
END:DAYLIGHT
BEGIN:STANDARD
TZOFFSETFROM:+0200
TZOFFSETTO:+0100
TZNAME:CET
DTSTART:20271031T010000
END:STANDARD
END:VTIMEZONE
BEGIN:VEVENT
DTSTART;TZID=Europe/Berlin:20260202T090000
DTEND;TZID=Europe/Berlin:20260207T173000
DTSTAMP:20260423T160235
CREATED:20260130T094712Z
LAST-MODIFIED:20260130T094712Z
UID:12972-1770022800-1770485400@spartipps-hx.de
SUMMARY:Ausstellung "Von der Natur inspiriert"
DESCRIPTION:Die Ausstellung kann vom 02. bis 07. Februar 2026 zu den geltenden Öffnungszeiten der Ölmühle Solling besucht werden. \n  \n  \nVeranstalter \n\n\n\n\nÖlmühle Solling GmbH Ölmühle Solling GmbH\nHöxtersche Straße 3\n37691 Boffzen
URL:https://spartipps-hx.de/veranstaltungen/ausstellung-von-der-natur-inspiriert/
END:VEVENT
BEGIN:VEVENT
DTSTART;TZID=Europe/Berlin:20260204T070000
DTEND;TZID=Europe/Berlin:20260204T140000
DTSTAMP:20260423T160235
CREATED:20260130T094726Z
LAST-MODIFIED:20260130T094726Z
UID:13002-1770188400-1770213600@spartipps-hx.de
SUMMARY:Wochenmarkt Holzminden
DESCRIPTION:Innenstadt Holzminden
URL:https://spartipps-hx.de/veranstaltungen/wochenmarkt-holzminden/
END:VEVENT
BEGIN:VEVENT
DTSTART;TZID=Europe/Berlin:20260204T080000
DTEND;TZID=Europe/Berlin:20260204T080000
DTSTAMP:20260423T160235
CREATED:20260130T094732Z
LAST-MODIFIED:20260130T094732Z
UID:12974-1770192000-1770192000@spartipps-hx.de
SUMMARY:Vieh- und Krammarkt Höxter
DESCRIPTION:Markttreiben \nVeranstaltungsort: Marktstraße\, Nicolaistraße\, Wallanlage\, Höxter
URL:https://spartipps-hx.de/veranstaltungen/vieh-und-krammarkt-hoexter-9/
END:VEVENT
BEGIN:VEVENT
DTSTART;TZID=Europe/Berlin:20260204T080000
DTEND;TZID=Europe/Berlin:20260204T130000
DTSTAMP:20260423T160235
CREATED:20260130T094746Z
LAST-MODIFIED:20260130T094746Z
UID:12954-1770192000-1770210000@spartipps-hx.de
SUMMARY:Wochenmarkt Höxter
DESCRIPTION:Innenstadt Höxter
URL:https://spartipps-hx.de/veranstaltungen/wochenmarkt-hoexter-78/
END:VEVENT
BEGIN:VEVENT
DTSTART;TZID=Europe/Berlin:20260204T140000
DTEND;TZID=Europe/Berlin:20260204T180000
DTSTAMP:20260423T160235
CREATED:20260130T094751Z
LAST-MODIFIED:20260130T094751Z
UID:13032-1770213600-1770228000@spartipps-hx.de
SUMMARY:Wochenmarkt Warburg
DESCRIPTION:Altstadt Warburg
URL:https://spartipps-hx.de/veranstaltungen/wochenmarkt-warburg/
END:VEVENT
END:VCALENDAR