BEGIN:VCALENDAR
VERSION:2.0
PRODID:-//Spartipps f&uuml;r H&ouml;xter - ECPv6.15.20//NONSGML v1.0//EN
CALSCALE:GREGORIAN
METHOD:PUBLISH
X-WR-CALNAME:Spartipps f&uuml;r H&ouml;xter
X-ORIGINAL-URL:https://spartipps-hx.de
X-WR-CALDESC:Veranstaltungen für Spartipps f&uuml;r H&ouml;xter
REFRESH-INTERVAL;VALUE=DURATION:PT1H
X-Robots-Tag:noindex
X-PUBLISHED-TTL:PT1H
BEGIN:VTIMEZONE
TZID:Europe/Berlin
BEGIN:DAYLIGHT
TZOFFSETFROM:+0100
TZOFFSETTO:+0200
TZNAME:CEST
DTSTART:20250330T010000
END:DAYLIGHT
BEGIN:STANDARD
TZOFFSETFROM:+0200
TZOFFSETTO:+0100
TZNAME:CET
DTSTART:20251026T010000
END:STANDARD
BEGIN:DAYLIGHT
TZOFFSETFROM:+0100
TZOFFSETTO:+0200
TZNAME:CEST
DTSTART:20260329T010000
END:DAYLIGHT
BEGIN:STANDARD
TZOFFSETFROM:+0200
TZOFFSETTO:+0100
TZNAME:CET
DTSTART:20261025T010000
END:STANDARD
BEGIN:DAYLIGHT
TZOFFSETFROM:+0100
TZOFFSETTO:+0200
TZNAME:CEST
DTSTART:20270328T010000
END:DAYLIGHT
BEGIN:STANDARD
TZOFFSETFROM:+0200
TZOFFSETTO:+0100
TZNAME:CET
DTSTART:20271031T010000
END:STANDARD
END:VTIMEZONE
BEGIN:VEVENT
DTSTART;TZID=Europe/Berlin:20260201T110000
DTEND;TZID=Europe/Berlin:20260201T130000
DTSTAMP:20260425T123702
CREATED:20260130T094614Z
LAST-MODIFIED:20260130T094614Z
UID:12926-1769943600-1769950800@spartipps-hx.de
SUMMARY:Jazz-Matinee der Musikschul-Bigband Höxter
DESCRIPTION:Veranstaltungsort\nResidenz-Stadthalle\nWallstraße 15\n37671 Höxter
URL:https://spartipps-hx.de/veranstaltungen/jazz-matinee-der-musikschul-bigband-hoexter/
END:VEVENT
BEGIN:VEVENT
DTSTART;TZID=Europe/Berlin:20260201T113000
DTEND;TZID=Europe/Berlin:20260201T170000
DTSTAMP:20260425T123703
CREATED:20260130T094625Z
LAST-MODIFIED:20260130T094625Z
UID:12928-1769945400-1769965200@spartipps-hx.de
SUMMARY:43. Pokalcross und Ostwestfälische Meisterschaften in Lüchtringen
DESCRIPTION: Höxter-Lüchtringen\, Sollingstadion (Cross-Park).
URL:https://spartipps-hx.de/veranstaltungen/43-pokalcross-und-ostwestfaelische-meisterschaften-in-luechtringen/
END:VEVENT
BEGIN:VEVENT
DTSTART;TZID=Europe/Berlin:20260201T130000
DTEND;TZID=Europe/Berlin:20260201T170000
DTSTAMP:20260425T123703
CREATED:20260130T094636Z
LAST-MODIFIED:20260130T094636Z
UID:13058-1769950800-1769965200@spartipps-hx.de
SUMMARY:Kinderkarneval in Brakel
DESCRIPTION:Stadthalle Brakel \nAm Schützenanger 4\n33034 Brakel
URL:https://spartipps-hx.de/veranstaltungen/kinderkarneval-in-brakel/
END:VEVENT
BEGIN:VEVENT
DTSTART;TZID=Europe/Berlin:20260201T190000
DTEND;TZID=Europe/Berlin:20260201T190000
DTSTAMP:20260425T123703
CREATED:20260130T094704Z
LAST-MODIFIED:20260130T094704Z
UID:12970-1769972400-1769972400@spartipps-hx.de
SUMMARY:Acoustic Session Weserbergland offene Bühne für Musiker
DESCRIPTION:Kontakt \n\n\n\n\nTonenburg\nThonenburg 1\n37671 Höxter
URL:https://spartipps-hx.de/veranstaltungen/acoustic-session-weserbergland-offene-buehne-fuer-musiker/
END:VEVENT
END:VCALENDAR