BEGIN:VCALENDAR
VERSION:2.0
PRODID:-//Spartipps f&uuml;r H&ouml;xter - ECPv6.15.20//NONSGML v1.0//EN
CALSCALE:GREGORIAN
METHOD:PUBLISH
X-WR-CALNAME:Spartipps f&uuml;r H&ouml;xter
X-ORIGINAL-URL:https://spartipps-hx.de
X-WR-CALDESC:Veranstaltungen für Spartipps f&uuml;r H&ouml;xter
REFRESH-INTERVAL;VALUE=DURATION:PT1H
X-Robots-Tag:noindex
X-PUBLISHED-TTL:PT1H
BEGIN:VTIMEZONE
TZID:Europe/Berlin
BEGIN:DAYLIGHT
TZOFFSETFROM:+0100
TZOFFSETTO:+0200
TZNAME:CEST
DTSTART:20240331T010000
END:DAYLIGHT
BEGIN:STANDARD
TZOFFSETFROM:+0200
TZOFFSETTO:+0100
TZNAME:CET
DTSTART:20241027T010000
END:STANDARD
BEGIN:DAYLIGHT
TZOFFSETFROM:+0100
TZOFFSETTO:+0200
TZNAME:CEST
DTSTART:20250330T010000
END:DAYLIGHT
BEGIN:STANDARD
TZOFFSETFROM:+0200
TZOFFSETTO:+0100
TZNAME:CET
DTSTART:20251026T010000
END:STANDARD
BEGIN:DAYLIGHT
TZOFFSETFROM:+0100
TZOFFSETTO:+0200
TZNAME:CEST
DTSTART:20260329T010000
END:DAYLIGHT
BEGIN:STANDARD
TZOFFSETFROM:+0200
TZOFFSETTO:+0100
TZNAME:CET
DTSTART:20261025T010000
END:STANDARD
END:VTIMEZONE
BEGIN:VEVENT
DTSTART;TZID=Europe/Berlin:20251119T080000
DTEND;TZID=Europe/Berlin:20251119T130000
DTSTAMP:20260425T135239
CREATED:20251107T113123Z
LAST-MODIFIED:20251107T113123Z
UID:12198-1763539200-1763557200@spartipps-hx.de
SUMMARY:Wochenmarkt Höxter
DESCRIPTION:Innenstadt Höxter\nMarktplatz\n37671 Höxter – Kernstadt
URL:https://spartipps-hx.de/veranstaltungen/wochenmarkt-hoexter-74/
END:VEVENT
BEGIN:VEVENT
DTSTART;TZID=Europe/Berlin:20251119T080000
DTEND;TZID=Europe/Berlin:20251119T170000
DTSTAMP:20260425T135239
CREATED:20251107T113127Z
LAST-MODIFIED:20251107T113127Z
UID:12226-1763539200-1763571600@spartipps-hx.de
SUMMARY:Bücher im Gespräch im Forum Jacob Pins
DESCRIPTION:Forum Jacob Pins\nWesterbachstraße 35-37\n37671 Höxter
URL:https://spartipps-hx.de/veranstaltungen/buecher-im-gespraech-im-forum-jacob-pins-2/
END:VEVENT
END:VCALENDAR