BEGIN:VCALENDAR
VERSION:2.0
PRODID:-//Spartipps f&uuml;r H&ouml;xter - ECPv6.15.20//NONSGML v1.0//EN
CALSCALE:GREGORIAN
METHOD:PUBLISH
X-ORIGINAL-URL:https://spartipps-hx.de
X-WR-CALDESC:Veranstaltungen für Spartipps f&uuml;r H&ouml;xter
REFRESH-INTERVAL;VALUE=DURATION:PT1H
X-Robots-Tag:noindex
X-PUBLISHED-TTL:PT1H
BEGIN:VTIMEZONE
TZID:Europe/Berlin
BEGIN:DAYLIGHT
TZOFFSETFROM:+0100
TZOFFSETTO:+0200
TZNAME:CEST
DTSTART:20240331T010000
END:DAYLIGHT
BEGIN:STANDARD
TZOFFSETFROM:+0200
TZOFFSETTO:+0100
TZNAME:CET
DTSTART:20241027T010000
END:STANDARD
BEGIN:DAYLIGHT
TZOFFSETFROM:+0100
TZOFFSETTO:+0200
TZNAME:CEST
DTSTART:20250330T010000
END:DAYLIGHT
BEGIN:STANDARD
TZOFFSETFROM:+0200
TZOFFSETTO:+0100
TZNAME:CET
DTSTART:20251026T010000
END:STANDARD
BEGIN:DAYLIGHT
TZOFFSETFROM:+0100
TZOFFSETTO:+0200
TZNAME:CEST
DTSTART:20260329T010000
END:DAYLIGHT
BEGIN:STANDARD
TZOFFSETFROM:+0200
TZOFFSETTO:+0100
TZNAME:CET
DTSTART:20261025T010000
END:STANDARD
END:VTIMEZONE
BEGIN:VEVENT
DTSTART;TZID=Europe/Berlin:20251115T080000
DTEND;TZID=Europe/Berlin:20251115T130000
DTSTAMP:20260425T124043
CREATED:20251107T113054Z
LAST-MODIFIED:20251107T113054Z
UID:12204-1763193600-1763211600@spartipps-hx.de
SUMMARY:Wochenmarkt Höxter
DESCRIPTION:Innenstadt Höxter\nMarktplatz\n37671 Höxter – Kernstadt
URL:https://spartipps-hx.de/veranstaltungen/wochenmarkt-hoexter-73/
END:VEVENT
BEGIN:VEVENT
DTSTART;TZID=Europe/Berlin:20251115T100000
DTEND;TZID=Europe/Berlin:20251115T170000
DTSTAMP:20260425T124043
CREATED:20251107T113057Z
LAST-MODIFIED:20251107T113057Z
UID:12275-1763200800-1763226000@spartipps-hx.de
SUMMARY:Flohmarkt Warburg Stadthalle
DESCRIPTION:Stadthalle Warburg\n\n\n\n\n\n\n\n\nHüffertstraße 50\n34414 Warburg
URL:https://spartipps-hx.de/veranstaltungen/flohmarkt-warburg-stadthalle-3/
END:VEVENT
BEGIN:VEVENT
DTSTART;TZID=Europe/Berlin:20251115T103000
DTEND;TZID=Europe/Berlin:20251115T120000
DTSTAMP:20260425T124043
CREATED:20251107T113108Z
LAST-MODIFIED:20251107T113108Z
UID:12214-1763202600-1763208000@spartipps-hx.de
SUMMARY:"Die Ölmühle kennenlernen"
DESCRIPTION:Ölmühle Solling GmbH\nHöxtersche Straße 3\n37691 Boffzen
URL:https://spartipps-hx.de/veranstaltungen/die-oelmuehle-kennenlernen/
END:VEVENT
END:VCALENDAR