BEGIN:VCALENDAR
VERSION:2.0
PRODID:-//Spartipps f&uuml;r H&ouml;xter - ECPv6.15.20//NONSGML v1.0//EN
CALSCALE:GREGORIAN
METHOD:PUBLISH
X-ORIGINAL-URL:https://spartipps-hx.de
X-WR-CALDESC:Veranstaltungen für Spartipps f&uuml;r H&ouml;xter
REFRESH-INTERVAL;VALUE=DURATION:PT1H
X-Robots-Tag:noindex
X-PUBLISHED-TTL:PT1H
BEGIN:VTIMEZONE
TZID:Europe/Berlin
BEGIN:DAYLIGHT
TZOFFSETFROM:+0100
TZOFFSETTO:+0200
TZNAME:CEST
DTSTART:20240331T010000
END:DAYLIGHT
BEGIN:STANDARD
TZOFFSETFROM:+0200
TZOFFSETTO:+0100
TZNAME:CET
DTSTART:20241027T010000
END:STANDARD
BEGIN:DAYLIGHT
TZOFFSETFROM:+0100
TZOFFSETTO:+0200
TZNAME:CEST
DTSTART:20250330T010000
END:DAYLIGHT
BEGIN:STANDARD
TZOFFSETFROM:+0200
TZOFFSETTO:+0100
TZNAME:CET
DTSTART:20251026T010000
END:STANDARD
BEGIN:DAYLIGHT
TZOFFSETFROM:+0100
TZOFFSETTO:+0200
TZNAME:CEST
DTSTART:20260329T010000
END:DAYLIGHT
BEGIN:STANDARD
TZOFFSETFROM:+0200
TZOFFSETTO:+0100
TZNAME:CET
DTSTART:20261025T010000
END:STANDARD
END:VTIMEZONE
BEGIN:VEVENT
DTSTART;TZID=Europe/Berlin:20251001T100000
DTEND;TZID=Europe/Berlin:20251031T170000
DTSTAMP:20260425T141716
CREATED:20251031T112040Z
LAST-MODIFIED:20251031T112040Z
UID:11906-1759312800-1761930000@spartipps-hx.de
SUMMARY:Powerful Moments | Sportfotografien von Anja Niedringhaus in Höxter
DESCRIPTION:Forum Anja Niedringhaus\nWesterbachstr. 33\n37671 Höxter
URL:https://spartipps-hx.de/veranstaltungen/powerful-moments-sportfotografien-von-anja-niedringhaus-in-hoexter-2/
END:VEVENT
BEGIN:VEVENT
DTSTART;TZID=Europe/Berlin:20251018T080000
DTEND;TZID=Europe/Berlin:20251018T130000
DTSTAMP:20260425T141716
CREATED:20251031T111545Z
LAST-MODIFIED:20251031T111545Z
UID:11896-1760774400-1760792400@spartipps-hx.de
SUMMARY:Wochenmarkt Höxter
DESCRIPTION:Innenstadt Höxter\nMarktplatz\n37671 Höxter – Kernstadt
URL:https://spartipps-hx.de/veranstaltungen/wochenmarkt-hoexter-64/
END:VEVENT
BEGIN:VEVENT
DTSTART;TZID=Europe/Berlin:20251018T110000
DTEND;TZID=Europe/Berlin:20251018T123000
DTSTAMP:20260425T141716
CREATED:20251031T111538Z
LAST-MODIFIED:20251031T111538Z
UID:11972-1760785200-1760790600@spartipps-hx.de
SUMMARY:Duftender Stadtrundgang - öffentliche Stadtführungen durch Holzminden
DESCRIPTION:Veranstaltungsort\nSensoria – Haus der Düfte und Aromen\nObere Straße 45\n37603 Holzminden
URL:https://spartipps-hx.de/veranstaltungen/duftender-stadtrundgang-oeffentliche-stadtfuehrungen-durch-holzminden-2/
END:VEVENT
BEGIN:VEVENT
DTSTART;TZID=Europe/Berlin:20251018T140000
DTEND;TZID=Europe/Berlin:20251018T153000
DTSTAMP:20260425T141716
CREATED:20251031T111533Z
LAST-MODIFIED:20251031T111533Z
UID:11990-1760796000-1760801400@spartipps-hx.de
SUMMARY:Öffentliche Stadtführung Warburg
DESCRIPTION:Der Startpunkt ist die Tourist-Information auf dem Neustädter Markt.
URL:https://spartipps-hx.de/veranstaltungen/oeffentliche-stadtfuehrung-warburg-9/
END:VEVENT
BEGIN:VEVENT
DTSTART;TZID=Europe/Berlin:20251018T140000
DTEND;TZID=Europe/Berlin:20251018T170000
DTSTAMP:20260425T141716
CREATED:20251031T111528Z
LAST-MODIFIED:20251031T111528Z
UID:12043-1760796000-1760806800@spartipps-hx.de
SUMMARY:Geführte Wanderung über den Reelser Waldweg
DESCRIPTION:Anschrift \n\n\n\n\nWanderinfopunkt am Bahnübergang – Bad Driburg\nLange Straße 140\n33014 Bad Driburg
URL:https://spartipps-hx.de/veranstaltungen/gefuehrte-wanderung-ueber-den-reelser-waldweg-3/
END:VEVENT
END:VCALENDAR