BEGIN:VCALENDAR
VERSION:2.0
PRODID:-//Spartipps f&uuml;r H&ouml;xter - ECPv6.15.20//NONSGML v1.0//EN
CALSCALE:GREGORIAN
METHOD:PUBLISH
X-WR-CALNAME:Spartipps f&uuml;r H&ouml;xter
X-ORIGINAL-URL:https://spartipps-hx.de
X-WR-CALDESC:Veranstaltungen für Spartipps f&uuml;r H&ouml;xter
REFRESH-INTERVAL;VALUE=DURATION:PT1H
X-Robots-Tag:noindex
X-PUBLISHED-TTL:PT1H
BEGIN:VTIMEZONE
TZID:Europe/Berlin
BEGIN:DAYLIGHT
TZOFFSETFROM:+0100
TZOFFSETTO:+0200
TZNAME:CEST
DTSTART:20240331T010000
END:DAYLIGHT
BEGIN:STANDARD
TZOFFSETFROM:+0200
TZOFFSETTO:+0100
TZNAME:CET
DTSTART:20241027T010000
END:STANDARD
BEGIN:DAYLIGHT
TZOFFSETFROM:+0100
TZOFFSETTO:+0200
TZNAME:CEST
DTSTART:20250330T010000
END:DAYLIGHT
BEGIN:STANDARD
TZOFFSETFROM:+0200
TZOFFSETTO:+0100
TZNAME:CET
DTSTART:20251026T010000
END:STANDARD
BEGIN:DAYLIGHT
TZOFFSETFROM:+0100
TZOFFSETTO:+0200
TZNAME:CEST
DTSTART:20260329T010000
END:DAYLIGHT
BEGIN:STANDARD
TZOFFSETFROM:+0200
TZOFFSETTO:+0100
TZNAME:CET
DTSTART:20261025T010000
END:STANDARD
END:VTIMEZONE
BEGIN:VEVENT
DTSTART;TZID=Europe/Berlin:20251001T100000
DTEND;TZID=Europe/Berlin:20251031T170000
DTSTAMP:20260425T135145
CREATED:20251031T112040Z
LAST-MODIFIED:20251031T112040Z
UID:11906-1759312800-1761930000@spartipps-hx.de
SUMMARY:Powerful Moments | Sportfotografien von Anja Niedringhaus in Höxter
DESCRIPTION:Forum Anja Niedringhaus\nWesterbachstr. 33\n37671 Höxter
URL:https://spartipps-hx.de/veranstaltungen/powerful-moments-sportfotografien-von-anja-niedringhaus-in-hoexter-2/
END:VEVENT
BEGIN:VEVENT
DTSTART;TZID=Europe/Berlin:20251017T080000
DTEND;TZID=Europe/Berlin:20251017T170000
DTSTAMP:20260425T135145
CREATED:20251031T111618Z
LAST-MODIFIED:20251031T111618Z
UID:12019-1760688000-1760720400@spartipps-hx.de
SUMMARY:Bad Driburger Wochenmarkt
DESCRIPTION:Anschrift \n\n\n\n\nSchulstraße / Ecke Freiheit\nSchulstraße \n33014 Bad Driburg
URL:https://spartipps-hx.de/veranstaltungen/bad-driburger-wochenmarkt-3/
END:VEVENT
BEGIN:VEVENT
DTSTART;TZID=Europe/Berlin:20251017T093000
DTEND;TZID=Europe/Berlin:20251017T110000
DTSTAMP:20260425T135145
CREATED:20251031T111613Z
LAST-MODIFIED:20251031T111613Z
UID:11954-1760693400-1760698800@spartipps-hx.de
SUMMARY:Bücherwürmer - die literarische Krabbelgruppe "Der dicke Pfannkuchen"
DESCRIPTION:Veranstaltungsort\nStadtbücherei\nMöllinger Straße 9\n37671 Höxter
URL:https://spartipps-hx.de/veranstaltungen/buecherwuermer-die-literarische-krabbelgruppe-der-dicke-pfannkuchen/
END:VEVENT
BEGIN:VEVENT
DTSTART;TZID=Europe/Berlin:20251017T140000
DTEND;TZID=Europe/Berlin:20251017T160000
DTSTAMP:20260425T135145
CREATED:20251031T111551Z
LAST-MODIFIED:20251031T111551Z
UID:12031-1760709600-1760716800@spartipps-hx.de
SUMMARY:Stadtführung Bad Driburg
DESCRIPTION:Anschrift \n\n\n\n\nTourist Information Bad Driburg\nLange Straße 87\n33014 Bad Driburg
URL:https://spartipps-hx.de/veranstaltungen/stadtfuehrung-bad-driburg-13/
END:VEVENT
END:VCALENDAR