BEGIN:VCALENDAR
VERSION:2.0
PRODID:-//Spartipps f&uuml;r H&ouml;xter - ECPv6.15.20//NONSGML v1.0//EN
CALSCALE:GREGORIAN
METHOD:PUBLISH
X-ORIGINAL-URL:https://spartipps-hx.de
X-WR-CALDESC:Veranstaltungen für Spartipps f&uuml;r H&ouml;xter
REFRESH-INTERVAL;VALUE=DURATION:PT1H
X-Robots-Tag:noindex
X-PUBLISHED-TTL:PT1H
BEGIN:VTIMEZONE
TZID:Europe/Berlin
BEGIN:DAYLIGHT
TZOFFSETFROM:+0100
TZOFFSETTO:+0200
TZNAME:CEST
DTSTART:20240331T010000
END:DAYLIGHT
BEGIN:STANDARD
TZOFFSETFROM:+0200
TZOFFSETTO:+0100
TZNAME:CET
DTSTART:20241027T010000
END:STANDARD
BEGIN:DAYLIGHT
TZOFFSETFROM:+0100
TZOFFSETTO:+0200
TZNAME:CEST
DTSTART:20250330T010000
END:DAYLIGHT
BEGIN:STANDARD
TZOFFSETFROM:+0200
TZOFFSETTO:+0100
TZNAME:CET
DTSTART:20251026T010000
END:STANDARD
BEGIN:DAYLIGHT
TZOFFSETFROM:+0100
TZOFFSETTO:+0200
TZNAME:CEST
DTSTART:20260329T010000
END:DAYLIGHT
BEGIN:STANDARD
TZOFFSETFROM:+0200
TZOFFSETTO:+0100
TZNAME:CET
DTSTART:20261025T010000
END:STANDARD
END:VTIMEZONE
BEGIN:VEVENT
DTSTART;TZID=Europe/Berlin:20251001T100000
DTEND;TZID=Europe/Berlin:20251031T170000
DTSTAMP:20260425T153737
CREATED:20251031T112040Z
LAST-MODIFIED:20251031T112040Z
UID:11906-1759312800-1761930000@spartipps-hx.de
SUMMARY:Powerful Moments | Sportfotografien von Anja Niedringhaus in Höxter
DESCRIPTION:Forum Anja Niedringhaus\nWesterbachstr. 33\n37671 Höxter
URL:https://spartipps-hx.de/veranstaltungen/powerful-moments-sportfotografien-von-anja-niedringhaus-in-hoexter-2/
END:VEVENT
BEGIN:VEVENT
DTSTART;TZID=Europe/Berlin:20251008T080000
DTEND;TZID=Europe/Berlin:20251008T130000
DTSTAMP:20260425T153737
CREATED:20251031T111903Z
LAST-MODIFIED:20251031T111903Z
UID:11889-1759910400-1759928400@spartipps-hx.de
SUMMARY:Wochenmarkt Höxter
DESCRIPTION:Innenstadt Höxter\nMarktplatz\n37671 Höxter – Kernstadt
URL:https://spartipps-hx.de/veranstaltungen/wochenmarkt-hoexter-67/
END:VEVENT
BEGIN:VEVENT
DTSTART;TZID=Europe/Berlin:20251008T150000
DTEND;TZID=Europe/Berlin:20251008T160000
DTSTAMP:20260425T153737
CREATED:20251031T111859Z
LAST-MODIFIED:20251031T111859Z
UID:11950-1759935600-1759939200@spartipps-hx.de
SUMMARY:Vorlesestunde in der Stadtbücherei "Heute ist der schönste Tag" (Anmeldung erforderlich)
DESCRIPTION:Veranstaltungsort\nStadtbücherei\nMöllinger Straße 9\n37671 Höxter
URL:https://spartipps-hx.de/veranstaltungen/vorlesestunde-in-der-stadtbuecherei-heute-ist-der-schoenste-tag-anmeldung-erforderlich/
END:VEVENT
END:VCALENDAR