BEGIN:VCALENDAR
VERSION:2.0
PRODID:-//Spartipps f&uuml;r H&ouml;xter - ECPv6.15.20//NONSGML v1.0//EN
CALSCALE:GREGORIAN
METHOD:PUBLISH
X-ORIGINAL-URL:https://spartipps-hx.de
X-WR-CALDESC:Veranstaltungen für Spartipps f&uuml;r H&ouml;xter
REFRESH-INTERVAL;VALUE=DURATION:PT1H
X-Robots-Tag:noindex
X-PUBLISHED-TTL:PT1H
BEGIN:VTIMEZONE
TZID:Europe/Berlin
BEGIN:DAYLIGHT
TZOFFSETFROM:+0100
TZOFFSETTO:+0200
TZNAME:CEST
DTSTART:20240331T010000
END:DAYLIGHT
BEGIN:STANDARD
TZOFFSETFROM:+0200
TZOFFSETTO:+0100
TZNAME:CET
DTSTART:20241027T010000
END:STANDARD
BEGIN:DAYLIGHT
TZOFFSETFROM:+0100
TZOFFSETTO:+0200
TZNAME:CEST
DTSTART:20250330T010000
END:DAYLIGHT
BEGIN:STANDARD
TZOFFSETFROM:+0200
TZOFFSETTO:+0100
TZNAME:CET
DTSTART:20251026T010000
END:STANDARD
BEGIN:DAYLIGHT
TZOFFSETFROM:+0100
TZOFFSETTO:+0200
TZNAME:CEST
DTSTART:20260329T010000
END:DAYLIGHT
BEGIN:STANDARD
TZOFFSETFROM:+0200
TZOFFSETTO:+0100
TZNAME:CET
DTSTART:20261025T010000
END:STANDARD
END:VTIMEZONE
BEGIN:VEVENT
DTSTART;TZID=Europe/Berlin:20251001T100000
DTEND;TZID=Europe/Berlin:20251031T170000
DTSTAMP:20260425T172955
CREATED:20251031T112040Z
LAST-MODIFIED:20251031T112040Z
UID:11906-1759312800-1761930000@spartipps-hx.de
SUMMARY:Powerful Moments | Sportfotografien von Anja Niedringhaus in Höxter
DESCRIPTION:Forum Anja Niedringhaus\nWesterbachstr. 33\n37671 Höxter
URL:https://spartipps-hx.de/veranstaltungen/powerful-moments-sportfotografien-von-anja-niedringhaus-in-hoexter-2/
END:VEVENT
BEGIN:VEVENT
DTSTART;VALUE=DATE:20251004
DTEND;VALUE=DATE:20251005
DTSTAMP:20260425T172955
CREATED:20251031T111959Z
LAST-MODIFIED:20251031T111959Z
UID:11935-1759536000-1759622399@spartipps-hx.de
SUMMARY:Erntedankfest Albaxen
DESCRIPTION:Feuerwehr Albaxen\, Gerätehaus
URL:https://spartipps-hx.de/veranstaltungen/erntedankfest-albaxen/
END:VEVENT
BEGIN:VEVENT
DTSTART;TZID=Europe/Berlin:20251004T080000
DTEND;TZID=Europe/Berlin:20251004T130000
DTSTAMP:20260425T172955
CREATED:20251031T111953Z
LAST-MODIFIED:20251031T111953Z
UID:11882-1759564800-1759582800@spartipps-hx.de
SUMMARY:Wochenmarkt Höxter
DESCRIPTION:Innenstadt Höxter\nMarktplatz\n37671 Höxter – Kernstadt
URL:https://spartipps-hx.de/veranstaltungen/wochenmarkt-hoexter-68/
END:VEVENT
BEGIN:VEVENT
DTSTART;TZID=Europe/Berlin:20251004T090000
DTEND;TZID=Europe/Berlin:20251004T140000
DTSTAMP:20260425T172955
CREATED:20251031T111949Z
LAST-MODIFIED:20251031T111949Z
UID:11912-1759568400-1759586400@spartipps-hx.de
SUMMARY:Veganer Markt Höxter
DESCRIPTION:Anschrift \n\n\n\n\nInnenstadt Höxter\nMarktplatz\n37671 Höxter – Kernstadt
URL:https://spartipps-hx.de/veranstaltungen/veganer-markt-hoexter-6/
END:VEVENT
BEGIN:VEVENT
DTSTART;TZID=Europe/Berlin:20251004T100000
DTEND;TZID=Europe/Berlin:20251004T120000
DTSTAMP:20260425T172955
CREATED:20251031T111945Z
LAST-MODIFIED:20251031T111945Z
UID:11937-1759572000-1759579200@spartipps-hx.de
SUMMARY:Ökumenische Bücherei für Kinder
DESCRIPTION:Veranstaltungsort\nBürgerhaus\, Ottbergen
URL:https://spartipps-hx.de/veranstaltungen/oekumenische-buecherei-fuer-kinder-7/
END:VEVENT
BEGIN:VEVENT
DTSTART;TZID=Europe/Berlin:20251004T110000
DTEND;TZID=Europe/Berlin:20251004T120000
DTSTAMP:20260425T172955
CREATED:20251031T111940Z
LAST-MODIFIED:20251031T111940Z
UID:11941-1759575600-1759579200@spartipps-hx.de
SUMMARY:"Musikalische Momente am Mittag" der Musikschule Höxter
DESCRIPTION:Veranstaltungsort\nMusikschule Höxter / Aula der VHS\nMöllingerstrasse 9\n37671 Höxter
URL:https://spartipps-hx.de/veranstaltungen/musikalische-momente-am-mittag-der-musikschule-hoexter/
END:VEVENT
BEGIN:VEVENT
DTSTART;TZID=Europe/Berlin:20251004T110000
DTEND;TZID=Europe/Berlin:20251004T123000
DTSTAMP:20260425T172955
CREATED:20251031T111936Z
LAST-MODIFIED:20251031T111936Z
UID:11968-1759575600-1759581000@spartipps-hx.de
SUMMARY:Duftender Stadtrundgang - öffentliche Stadtführungen durch Holzminden
DESCRIPTION:Veranstaltungsort\nSensoria – Haus der Düfte und Aromen\nObere Straße 45\n37603 Holzminden
URL:https://spartipps-hx.de/veranstaltungen/duftender-stadtrundgang-oeffentliche-stadtfuehrungen-durch-holzminden-4/
END:VEVENT
BEGIN:VEVENT
DTSTART;TZID=Europe/Berlin:20251004T120000
DTEND;TZID=Europe/Berlin:20251004T210000
DTSTAMP:20260425T172955
CREATED:20251031T111931Z
LAST-MODIFIED:20251031T111931Z
UID:11983-1759579200-1759611600@spartipps-hx.de
SUMMARY:Saisonabschluss im Gin-Garten mit Live Musik von Andreas Leinemann
DESCRIPTION:St. Albert’s Distillery\nEike Irene Seidenhefter\nAm Berge 1\n34396 Liebenau-Haueda
URL:https://spartipps-hx.de/veranstaltungen/saisonabschluss-im-gin-garten-mit-live-musik-von-andreas-leinemann/
END:VEVENT
BEGIN:VEVENT
DTSTART;TZID=Europe/Berlin:20251004T140000
DTEND;TZID=Europe/Berlin:20251004T153000
DTSTAMP:20260425T172955
CREATED:20251031T111926Z
LAST-MODIFIED:20251031T111926Z
UID:11986-1759586400-1759591800@spartipps-hx.de
SUMMARY:Öffentliche Stadtführung Warburg
DESCRIPTION:Der Startpunkt ist die Tourist-Information auf dem Neustädter Markt.
URL:https://spartipps-hx.de/veranstaltungen/oeffentliche-stadtfuehrung-warburg-11/
END:VEVENT
END:VCALENDAR