BEGIN:VCALENDAR
VERSION:2.0
PRODID:-//Spartipps f&uuml;r H&ouml;xter - ECPv6.15.20//NONSGML v1.0//EN
CALSCALE:GREGORIAN
METHOD:PUBLISH
X-WR-CALNAME:Spartipps f&uuml;r H&ouml;xter
X-ORIGINAL-URL:https://spartipps-hx.de
X-WR-CALDESC:Veranstaltungen für Spartipps f&uuml;r H&ouml;xter
REFRESH-INTERVAL;VALUE=DURATION:PT1H
X-Robots-Tag:noindex
X-PUBLISHED-TTL:PT1H
BEGIN:VTIMEZONE
TZID:Europe/Berlin
BEGIN:DAYLIGHT
TZOFFSETFROM:+0100
TZOFFSETTO:+0200
TZNAME:CEST
DTSTART:20240331T010000
END:DAYLIGHT
BEGIN:STANDARD
TZOFFSETFROM:+0200
TZOFFSETTO:+0100
TZNAME:CET
DTSTART:20241027T010000
END:STANDARD
BEGIN:DAYLIGHT
TZOFFSETFROM:+0100
TZOFFSETTO:+0200
TZNAME:CEST
DTSTART:20250330T010000
END:DAYLIGHT
BEGIN:STANDARD
TZOFFSETFROM:+0200
TZOFFSETTO:+0100
TZNAME:CET
DTSTART:20251026T010000
END:STANDARD
BEGIN:DAYLIGHT
TZOFFSETFROM:+0100
TZOFFSETTO:+0200
TZNAME:CEST
DTSTART:20260329T010000
END:DAYLIGHT
BEGIN:STANDARD
TZOFFSETFROM:+0200
TZOFFSETTO:+0100
TZNAME:CET
DTSTART:20261025T010000
END:STANDARD
END:VTIMEZONE
BEGIN:VEVENT
DTSTART;TZID=Europe/Berlin:20251001T100000
DTEND;TZID=Europe/Berlin:20251031T170000
DTSTAMP:20260425T183216
CREATED:20251031T112040Z
LAST-MODIFIED:20251031T112040Z
UID:11906-1759312800-1761930000@spartipps-hx.de
SUMMARY:Powerful Moments | Sportfotografien von Anja Niedringhaus in Höxter
DESCRIPTION:Forum Anja Niedringhaus\nWesterbachstr. 33\n37671 Höxter
URL:https://spartipps-hx.de/veranstaltungen/powerful-moments-sportfotografien-von-anja-niedringhaus-in-hoexter-2/
END:VEVENT
BEGIN:VEVENT
DTSTART;TZID=Europe/Berlin:20251002T070000
DTEND;TZID=Europe/Berlin:20251002T130000
DTSTAMP:20260425T183216
CREATED:20251031T112012Z
LAST-MODIFIED:20251031T112025Z
UID:12010-1759388400-1759410000@spartipps-hx.de
SUMMARY:Bad Driburger Wochenmarkt
DESCRIPTION:Anschrift \n\n\n\n\nSchulstraße / Ecke Freiheit\nSchulstraße \n33014 Bad Driburg
URL:https://spartipps-hx.de/veranstaltungen/bad-driburger-wochenmarkt-5/
END:VEVENT
BEGIN:VEVENT
DTSTART;TZID=Europe/Berlin:20251002T180000
DTEND;TZID=Europe/Berlin:20251002T200000
DTSTAMP:20260425T183216
CREATED:20251031T112020Z
LAST-MODIFIED:20251031T112020Z
UID:11908-1759428000-1759435200@spartipps-hx.de
SUMMARY:langer Donnerstag in der Ausstellung zur "Schlacht am Brunsberg" Höxter
DESCRIPTION:Anschrift \n\n\n\n\nHistorisches Rathaus\nWeserstraße 11\n37671 Höxter
URL:https://spartipps-hx.de/veranstaltungen/langer-donnerstag-in-der-ausstellung-zur-schlacht-am-brunsberg-hoexter-2/
END:VEVENT
END:VCALENDAR