BEGIN:VCALENDAR
VERSION:2.0
PRODID:-//Spartipps f&uuml;r H&ouml;xter - ECPv6.15.20//NONSGML v1.0//EN
CALSCALE:GREGORIAN
METHOD:PUBLISH
X-ORIGINAL-URL:https://spartipps-hx.de
X-WR-CALDESC:Veranstaltungen für Spartipps f&uuml;r H&ouml;xter
REFRESH-INTERVAL;VALUE=DURATION:PT1H
X-Robots-Tag:noindex
X-PUBLISHED-TTL:PT1H
BEGIN:VTIMEZONE
TZID:Europe/Berlin
BEGIN:DAYLIGHT
TZOFFSETFROM:+0100
TZOFFSETTO:+0200
TZNAME:CEST
DTSTART:20240331T010000
END:DAYLIGHT
BEGIN:STANDARD
TZOFFSETFROM:+0200
TZOFFSETTO:+0100
TZNAME:CET
DTSTART:20241027T010000
END:STANDARD
BEGIN:DAYLIGHT
TZOFFSETFROM:+0100
TZOFFSETTO:+0200
TZNAME:CEST
DTSTART:20250330T010000
END:DAYLIGHT
BEGIN:STANDARD
TZOFFSETFROM:+0200
TZOFFSETTO:+0100
TZNAME:CET
DTSTART:20251026T010000
END:STANDARD
BEGIN:DAYLIGHT
TZOFFSETFROM:+0100
TZOFFSETTO:+0200
TZNAME:CEST
DTSTART:20260329T010000
END:DAYLIGHT
BEGIN:STANDARD
TZOFFSETFROM:+0200
TZOFFSETTO:+0100
TZNAME:CET
DTSTART:20261025T010000
END:STANDARD
END:VTIMEZONE
BEGIN:VEVENT
DTSTART;TZID=Europe/Berlin:20250902T100000
DTEND;TZID=Europe/Berlin:20250930T170000
DTSTAMP:20260425T201520
CREATED:20250829T103143Z
LAST-MODIFIED:20250829T103143Z
UID:10957-1756807200-1759251600@spartipps-hx.de
SUMMARY:Powerful Moments | Sportfotografien von Anja Niedringhaus in Höxter
DESCRIPTION:Forum Anja Niedringhaus\nWesterbachstr. 33\n37671 Höxter
URL:https://spartipps-hx.de/veranstaltungen/powerful-moments-sportfotografien-von-anja-niedringhaus-in-hoexter/
END:VEVENT
BEGIN:VEVENT
DTSTART;TZID=Europe/Berlin:20250924T070000
DTEND;TZID=Europe/Berlin:20250924T140000
DTSTAMP:20260425T201520
CREATED:20250905T095011Z
LAST-MODIFIED:20250905T095011Z
UID:10699-1758697200-1758722400@spartipps-hx.de
SUMMARY:Wochenmarkt Höxter
DESCRIPTION:Höxter\, Innenstadt
URL:https://spartipps-hx.de/veranstaltungen/wochenmarkt-hoexter-56/
END:VEVENT
BEGIN:VEVENT
DTSTART;TZID=Europe/Berlin:20250924T140000
DTEND;TZID=Europe/Berlin:20250924T170000
DTSTAMP:20260425T201520
CREATED:20250905T095007Z
LAST-MODIFIED:20250905T095007Z
UID:10951-1758722400-1758733200@spartipps-hx.de
SUMMARY:Geführte Wanderung Escherberg Bad Driburg
DESCRIPTION:Wegstrecke: 8-10 km\nWegdauer: ca. 3 Stunden\nKosten: 3 € mit Kurkarte / 4 € ohne Kurkarte\nTreffpunkt: Wanderinfopunkt am Bahnübergang (Lange Str. 140)
URL:https://spartipps-hx.de/veranstaltungen/gefuehrte-wanderung-escherberg-bad-driburg/
END:VEVENT
BEGIN:VEVENT
DTSTART;TZID=Europe/Berlin:20250924T190000
DTEND;TZID=Europe/Berlin:20250924T203000
DTSTAMP:20260425T201520
CREATED:20250905T095003Z
LAST-MODIFIED:20250905T095003Z
UID:10790-1758740400-1758745800@spartipps-hx.de
SUMMARY:Fachvortrag: Das Gräberfeld von Schieder-Schwalenberg
DESCRIPTION:Anschrift \n\n\n\n\nHaus der VHS\nMöllingerstraße 9\n37671 Höxter – Kernstadt
URL:https://spartipps-hx.de/veranstaltungen/fachvortrag-das-graeberfeld-von-schieder-schwalenberg/
END:VEVENT
END:VCALENDAR