BEGIN:VCALENDAR
VERSION:2.0
PRODID:-//Spartipps f&uuml;r H&ouml;xter - ECPv6.15.20//NONSGML v1.0//EN
CALSCALE:GREGORIAN
METHOD:PUBLISH
X-WR-CALNAME:Spartipps f&uuml;r H&ouml;xter
X-ORIGINAL-URL:https://spartipps-hx.de
X-WR-CALDESC:Veranstaltungen für Spartipps f&uuml;r H&ouml;xter
REFRESH-INTERVAL;VALUE=DURATION:PT1H
X-Robots-Tag:noindex
X-PUBLISHED-TTL:PT1H
BEGIN:VTIMEZONE
TZID:Europe/Berlin
BEGIN:DAYLIGHT
TZOFFSETFROM:+0100
TZOFFSETTO:+0200
TZNAME:CEST
DTSTART:20240331T010000
END:DAYLIGHT
BEGIN:STANDARD
TZOFFSETFROM:+0200
TZOFFSETTO:+0100
TZNAME:CET
DTSTART:20241027T010000
END:STANDARD
BEGIN:DAYLIGHT
TZOFFSETFROM:+0100
TZOFFSETTO:+0200
TZNAME:CEST
DTSTART:20250330T010000
END:DAYLIGHT
BEGIN:STANDARD
TZOFFSETFROM:+0200
TZOFFSETTO:+0100
TZNAME:CET
DTSTART:20251026T010000
END:STANDARD
BEGIN:DAYLIGHT
TZOFFSETFROM:+0100
TZOFFSETTO:+0200
TZNAME:CEST
DTSTART:20260329T010000
END:DAYLIGHT
BEGIN:STANDARD
TZOFFSETFROM:+0200
TZOFFSETTO:+0100
TZNAME:CET
DTSTART:20261025T010000
END:STANDARD
END:VTIMEZONE
BEGIN:VEVENT
DTSTART;TZID=Europe/Berlin:20250902T100000
DTEND;TZID=Europe/Berlin:20250930T170000
DTSTAMP:20260425T183230
CREATED:20250829T103143Z
LAST-MODIFIED:20250829T103143Z
UID:10957-1756807200-1759251600@spartipps-hx.de
SUMMARY:Powerful Moments | Sportfotografien von Anja Niedringhaus in Höxter
DESCRIPTION:Forum Anja Niedringhaus\nWesterbachstr. 33\n37671 Höxter
URL:https://spartipps-hx.de/veranstaltungen/powerful-moments-sportfotografien-von-anja-niedringhaus-in-hoexter/
END:VEVENT
BEGIN:VEVENT
DTSTART;TZID=Europe/Berlin:20250920T070000
DTEND;TZID=Europe/Berlin:20250920T140000
DTSTAMP:20260425T183230
CREATED:20250905T095159Z
LAST-MODIFIED:20250905T095159Z
UID:10714-1758351600-1758376800@spartipps-hx.de
SUMMARY:Wochenmarkt Höxter
DESCRIPTION:Innenstadt\, Höxter
URL:https://spartipps-hx.de/veranstaltungen/wochenmarkt-hoexter-57/
END:VEVENT
BEGIN:VEVENT
DTSTART;TZID=Europe/Berlin:20250920T100000
DTEND;TZID=Europe/Berlin:20250921T170000
DTSTAMP:20260425T183230
CREATED:20250905T095154Z
LAST-MODIFIED:20250905T095154Z
UID:10947-1758362400-1758474000@spartipps-hx.de
SUMMARY:Glasstadtfest Bad Driburg
DESCRIPTION:Am 20. & 21. September lädt Bad Driburg zum vielseitigen Stadtfest mit verkaufsoffenem Sonntag ein!
URL:https://spartipps-hx.de/veranstaltungen/glasstadtfest-bad-driburg/
END:VEVENT
BEGIN:VEVENT
DTSTART;TZID=Europe/Berlin:20250920T110000
DTEND;TZID=Europe/Berlin:20250920T123000
DTSTAMP:20260425T183230
CREATED:20250905T095150Z
LAST-MODIFIED:20250905T095150Z
UID:10838-1758366000-1758371400@spartipps-hx.de
SUMMARY:Duftender Stadtrundgang - öffentliche Stadtführung Holzminden
DESCRIPTION:Veranstaltungsort\nSensoria – Haus der Düfte und Aromen\nObere Straße 45\n37603 Holzminden
URL:https://spartipps-hx.de/veranstaltungen/duftender-stadtrundgang-oeffentliche-stadtfuehrung-holzminden-2/
END:VEVENT
BEGIN:VEVENT
DTSTART;TZID=Europe/Berlin:20250920T140000
DTEND;TZID=Europe/Berlin:20250920T153000
DTSTAMP:20260425T183230
CREATED:20250905T095144Z
LAST-MODIFIED:20250905T095144Z
UID:10875-1758376800-1758382200@spartipps-hx.de
SUMMARY:Öffentliche Stadtführung Warburg
DESCRIPTION:Der Startpunkt ist die Tourist-Information auf dem Neustädter Markt.
URL:https://spartipps-hx.de/veranstaltungen/oeffentliche-stadtfuehrung-warburg-5/
END:VEVENT
BEGIN:VEVENT
DTSTART;TZID=Europe/Berlin:20250920T140000
DTEND;TZID=Europe/Berlin:20250920T170000
DTSTAMP:20260425T183230
CREATED:20250905T095140Z
LAST-MODIFIED:20250905T095140Z
UID:10949-1758376800-1758387600@spartipps-hx.de
SUMMARY:Geführte Wanderung über den Reelser Waldweg
DESCRIPTION:Wegstrecke: 8-10 km\nWegdauer: ca. 3 Stunden\nKosten: 3 € mit Kurkarte / 4 € ohne Kurkarte\nTreffpunkt: Wanderinfopunkt am Bahnübergang (Lange Str. 140)
URL:https://spartipps-hx.de/veranstaltungen/gefuehrte-wanderung-ueber-den-reelser-waldweg-2/
END:VEVENT
BEGIN:VEVENT
DTSTART;TZID=Europe/Berlin:20250920T193000
DTEND;TZID=Europe/Berlin:20250920T210000
DTSTAMP:20260425T183230
CREATED:20250905T095137Z
LAST-MODIFIED:20250905T095137Z
UID:10902-1758396600-1758402000@spartipps-hx.de
SUMMARY:Alphornkonzert mit den Diemelhörnern in Germete
DESCRIPTION:Ort:\n\nKirche in Germete
URL:https://spartipps-hx.de/veranstaltungen/alphornkonzert-mit-den-diemelhoernern-in-germete/
END:VEVENT
END:VCALENDAR