BEGIN:VCALENDAR
VERSION:2.0
PRODID:-//Spartipps f&uuml;r H&ouml;xter - ECPv6.15.20//NONSGML v1.0//EN
CALSCALE:GREGORIAN
METHOD:PUBLISH
X-ORIGINAL-URL:https://spartipps-hx.de
X-WR-CALDESC:Veranstaltungen für Spartipps f&uuml;r H&ouml;xter
REFRESH-INTERVAL;VALUE=DURATION:PT1H
X-Robots-Tag:noindex
X-PUBLISHED-TTL:PT1H
BEGIN:VTIMEZONE
TZID:Europe/Berlin
BEGIN:DAYLIGHT
TZOFFSETFROM:+0100
TZOFFSETTO:+0200
TZNAME:CEST
DTSTART:20240331T010000
END:DAYLIGHT
BEGIN:STANDARD
TZOFFSETFROM:+0200
TZOFFSETTO:+0100
TZNAME:CET
DTSTART:20241027T010000
END:STANDARD
BEGIN:DAYLIGHT
TZOFFSETFROM:+0100
TZOFFSETTO:+0200
TZNAME:CEST
DTSTART:20250330T010000
END:DAYLIGHT
BEGIN:STANDARD
TZOFFSETFROM:+0200
TZOFFSETTO:+0100
TZNAME:CET
DTSTART:20251026T010000
END:STANDARD
BEGIN:DAYLIGHT
TZOFFSETFROM:+0100
TZOFFSETTO:+0200
TZNAME:CEST
DTSTART:20260329T010000
END:DAYLIGHT
BEGIN:STANDARD
TZOFFSETFROM:+0200
TZOFFSETTO:+0100
TZNAME:CET
DTSTART:20261025T010000
END:STANDARD
END:VTIMEZONE
BEGIN:VEVENT
DTSTART;TZID=Europe/Berlin:20250902T100000
DTEND;TZID=Europe/Berlin:20250930T170000
DTSTAMP:20260425T185939
CREATED:20250829T103143Z
LAST-MODIFIED:20250829T103143Z
UID:10957-1756807200-1759251600@spartipps-hx.de
SUMMARY:Powerful Moments | Sportfotografien von Anja Niedringhaus in Höxter
DESCRIPTION:Forum Anja Niedringhaus\nWesterbachstr. 33\n37671 Höxter
URL:https://spartipps-hx.de/veranstaltungen/powerful-moments-sportfotografien-von-anja-niedringhaus-in-hoexter/
END:VEVENT
BEGIN:VEVENT
DTSTART;TZID=Europe/Berlin:20250917T070000
DTEND;TZID=Europe/Berlin:20250917T140000
DTSTAMP:20260425T185939
CREATED:20250905T095316Z
LAST-MODIFIED:20250905T095316Z
UID:10695-1758092400-1758117600@spartipps-hx.de
SUMMARY:Wochenmarkt Höxter
DESCRIPTION:Höxter\, Innenstadt
URL:https://spartipps-hx.de/veranstaltungen/wochenmarkt-hoexter-59/
END:VEVENT
BEGIN:VEVENT
DTSTART;TZID=Europe/Berlin:20250917T140000
DTEND;TZID=Europe/Berlin:20250917T160000
DTSTAMP:20260425T185939
CREATED:20250905T095232Z
LAST-MODIFIED:20250905T095232Z
UID:10777-1758117600-1758124800@spartipps-hx.de
SUMMARY:Tag der Regionen in der Ölmühle Boffzen
DESCRIPTION:Anschrift \n\n\n\n\nÖlmühle Solling GmbH\nHöxtersche Straße 3\n37691 Boffzen\n\n\nBio-Spezialitäten zum Probieren\, Kennenlernen und Nachkochen\nBei der Veranstaltung ist kulinarischer Genuss inklusive. Wir bieten saisonale Köstlichkeiten mit Bio-Spezialitäten aus unserer Ölmühle Solling an\, zum Probieren\, Kennenlernen und Nach­kochen mit passenden Rezepten.
URL:https://spartipps-hx.de/veranstaltungen/tag-der-regionen-in-der-oelmuehle-boffzen/
END:VEVENT
BEGIN:VEVENT
DTSTART;TZID=Europe/Berlin:20250917T140000
DTEND;TZID=Europe/Berlin:20250917T170000
DTSTAMP:20260425T185939
CREATED:20250905T095228Z
LAST-MODIFIED:20250905T095228Z
UID:10945-1758117600-1758128400@spartipps-hx.de
SUMMARY:Geführte Wanderung über den Rosenberg Bad Driburg
DESCRIPTION:Wegstrecke: ca. 6 km\nWegdauer: ca. 2 Stunden\nKosten: 3 € mit Kurkarte / 4 € ohne Kurkarte\nTreffpunkt: Wanderinfopunkt am Bahnübergang (Lange Str. 140)
URL:https://spartipps-hx.de/veranstaltungen/gefuehrte-wanderung-ueber-den-rosenberg-bad-driburg/
END:VEVENT
BEGIN:VEVENT
DTSTART;TZID=Europe/Berlin:20250917T190000
DTEND;TZID=Europe/Berlin:20250917T203000
DTSTAMP:20260425T185939
CREATED:20250905T095222Z
LAST-MODIFIED:20250905T095222Z
UID:10780-1758135600-1758141000@spartipps-hx.de
SUMMARY:Bücher im Gespräch im Forum Jacob Pins
DESCRIPTION:Anschrift \n\n\n\n\nForum Jacob Pins\nWesterbachstraße 35-37\n37671 Höxter\n\n\n\n\n\n\n\n\n\n\n\nAktuelle Informationen unter www.jacob-pins.de\n\n\n\nIn den Räumlichkeiten des Forum Jacob Pins werden einmal im Monat aktuelle Bücher vorgestellt.\nDie Teilnahme an dem Gesprächskreis ist wie immer frei.
URL:https://spartipps-hx.de/veranstaltungen/buecher-im-gespraech-im-forum-jacob-pins/
END:VEVENT
END:VCALENDAR