BEGIN:VCALENDAR
VERSION:2.0
PRODID:-//Spartipps f&uuml;r H&ouml;xter - ECPv6.15.20//NONSGML v1.0//EN
CALSCALE:GREGORIAN
METHOD:PUBLISH
X-WR-CALNAME:Spartipps f&uuml;r H&ouml;xter
X-ORIGINAL-URL:https://spartipps-hx.de
X-WR-CALDESC:Veranstaltungen für Spartipps f&uuml;r H&ouml;xter
REFRESH-INTERVAL;VALUE=DURATION:PT1H
X-Robots-Tag:noindex
X-PUBLISHED-TTL:PT1H
BEGIN:VTIMEZONE
TZID:Europe/Berlin
BEGIN:DAYLIGHT
TZOFFSETFROM:+0100
TZOFFSETTO:+0200
TZNAME:CEST
DTSTART:20240331T010000
END:DAYLIGHT
BEGIN:STANDARD
TZOFFSETFROM:+0200
TZOFFSETTO:+0100
TZNAME:CET
DTSTART:20241027T010000
END:STANDARD
BEGIN:DAYLIGHT
TZOFFSETFROM:+0100
TZOFFSETTO:+0200
TZNAME:CEST
DTSTART:20250330T010000
END:DAYLIGHT
BEGIN:STANDARD
TZOFFSETFROM:+0200
TZOFFSETTO:+0100
TZNAME:CET
DTSTART:20251026T010000
END:STANDARD
BEGIN:DAYLIGHT
TZOFFSETFROM:+0100
TZOFFSETTO:+0200
TZNAME:CEST
DTSTART:20260329T010000
END:DAYLIGHT
BEGIN:STANDARD
TZOFFSETFROM:+0200
TZOFFSETTO:+0100
TZNAME:CET
DTSTART:20261025T010000
END:STANDARD
END:VTIMEZONE
BEGIN:VEVENT
DTSTART;TZID=Europe/Berlin:20250902T100000
DTEND;TZID=Europe/Berlin:20250930T170000
DTSTAMP:20260425T201734
CREATED:20250829T103143Z
LAST-MODIFIED:20250829T103143Z
UID:10957-1756807200-1759251600@spartipps-hx.de
SUMMARY:Powerful Moments | Sportfotografien von Anja Niedringhaus in Höxter
DESCRIPTION:Forum Anja Niedringhaus\nWesterbachstr. 33\n37671 Höxter
URL:https://spartipps-hx.de/veranstaltungen/powerful-moments-sportfotografien-von-anja-niedringhaus-in-hoexter/
END:VEVENT
BEGIN:VEVENT
DTSTART;TZID=Europe/Berlin:20250916T160000
DTEND;TZID=Europe/Berlin:20250916T170000
DTSTAMP:20260425T201734
CREATED:20250905T095414Z
LAST-MODIFIED:20250905T095414Z
UID:10829-1758038400-1758042000@spartipps-hx.de
SUMMARY:Bilderbuchkino in der Stadtbücherei Holzminden (Anmeldung erforderlich)
DESCRIPTION:Veranstaltungsort\nStadtbücherei Holzminden\nObere Straße 30\n37603 Holzminden \n  \nDie Eltern werden gebeten zu beachten\, dass die Veranstaltung pünktlich beginnt und eine Stunde dauert. Weitere Informationen und Anmeldung während der Öffnungszeiten der Stadtbücherei: dienstags und donnerstags von 11 bis 18 Uhr\, mittwochs\, freitags und samstags von 10 bis 13 Uhr. Tel. 05531/93640 oder per E-Mail: buecherei@holzminden.de. Adresse: Obere Straße 30\, 37603 Holzminden.
URL:https://spartipps-hx.de/veranstaltungen/bilderbuchkino-in-der-stadtbuecherei-holzminden-anmeldung-erforderlich-2/
END:VEVENT
BEGIN:VEVENT
DTSTART;TZID=Europe/Berlin:20250916T160000
DTEND;TZID=Europe/Berlin:20250916T200000
DTSTAMP:20260425T201734
CREATED:20250905T095325Z
LAST-MODIFIED:20250905T095325Z
UID:11017-1758038400-1758052800@spartipps-hx.de
SUMMARY:Blutspende Marienmünster
DESCRIPTION:Pfarrheim Johannes Baptist \nHauptstr. 20 \n37696 Marienmünster
URL:https://spartipps-hx.de/veranstaltungen/blutspende-marienmuenster/
END:VEVENT
BEGIN:VEVENT
DTSTART;TZID=Europe/Berlin:20250916T163000
DTEND;TZID=Europe/Berlin:20250916T200000
DTSTAMP:20260425T201734
CREATED:20250905T095321Z
LAST-MODIFIED:20250905T095321Z
UID:11019-1758040200-1758052800@spartipps-hx.de
SUMMARY:Blutspende Borgentreich
DESCRIPTION:Stadthalle \nAm Lullerberg 22 \n34434 Borgentreich
URL:https://spartipps-hx.de/veranstaltungen/blutspende-borgentreich/
END:VEVENT
END:VCALENDAR