BEGIN:VCALENDAR
VERSION:2.0
PRODID:-//Spartipps f&uuml;r H&ouml;xter - ECPv6.15.20//NONSGML v1.0//EN
CALSCALE:GREGORIAN
METHOD:PUBLISH
X-WR-CALNAME:Spartipps f&uuml;r H&ouml;xter
X-ORIGINAL-URL:https://spartipps-hx.de
X-WR-CALDESC:Veranstaltungen für Spartipps f&uuml;r H&ouml;xter
REFRESH-INTERVAL;VALUE=DURATION:PT1H
X-Robots-Tag:noindex
X-PUBLISHED-TTL:PT1H
BEGIN:VTIMEZONE
TZID:Europe/Berlin
BEGIN:DAYLIGHT
TZOFFSETFROM:+0100
TZOFFSETTO:+0200
TZNAME:CEST
DTSTART:20240331T010000
END:DAYLIGHT
BEGIN:STANDARD
TZOFFSETFROM:+0200
TZOFFSETTO:+0100
TZNAME:CET
DTSTART:20241027T010000
END:STANDARD
BEGIN:DAYLIGHT
TZOFFSETFROM:+0100
TZOFFSETTO:+0200
TZNAME:CEST
DTSTART:20250330T010000
END:DAYLIGHT
BEGIN:STANDARD
TZOFFSETFROM:+0200
TZOFFSETTO:+0100
TZNAME:CET
DTSTART:20251026T010000
END:STANDARD
BEGIN:DAYLIGHT
TZOFFSETFROM:+0100
TZOFFSETTO:+0200
TZNAME:CEST
DTSTART:20260329T010000
END:DAYLIGHT
BEGIN:STANDARD
TZOFFSETFROM:+0200
TZOFFSETTO:+0100
TZNAME:CET
DTSTART:20261025T010000
END:STANDARD
END:VTIMEZONE
BEGIN:VEVENT
DTSTART;TZID=Europe/Berlin:20250902T100000
DTEND;TZID=Europe/Berlin:20250930T170000
DTSTAMP:20260425T172726
CREATED:20250829T103143Z
LAST-MODIFIED:20250829T103143Z
UID:10957-1756807200-1759251600@spartipps-hx.de
SUMMARY:Powerful Moments | Sportfotografien von Anja Niedringhaus in Höxter
DESCRIPTION:Forum Anja Niedringhaus\nWesterbachstr. 33\n37671 Höxter
URL:https://spartipps-hx.de/veranstaltungen/powerful-moments-sportfotografien-von-anja-niedringhaus-in-hoexter/
END:VEVENT
BEGIN:VEVENT
DTSTART;TZID=Europe/Berlin:20250910T070000
DTEND;TZID=Europe/Berlin:20250910T140000
DTSTAMP:20260425T172726
CREATED:20250905T095833Z
LAST-MODIFIED:20250905T095833Z
UID:10693-1757487600-1757512800@spartipps-hx.de
SUMMARY:Wochenmarkt Höxter
DESCRIPTION:Höxter\, Innenstadt
URL:https://spartipps-hx.de/veranstaltungen/wochenmarkt-hoexter-61/
END:VEVENT
BEGIN:VEVENT
DTSTART;TZID=Europe/Berlin:20250910T140000
DTEND;TZID=Europe/Berlin:20250910T160000
DTSTAMP:20260425T172726
CREATED:20250905T095820Z
LAST-MODIFIED:20250905T095820Z
UID:10749-1757512800-1757520000@spartipps-hx.de
SUMMARY:Aktionstag Ökolandbau Boffzen (Anmeldung erforderlich)
DESCRIPTION:Das Ölmüllerhandwerk entdecken: Ein Blick hinter die Kulissen \n\nÖlmühle Solling GmbH\nHöxtersche Straße 3\n37691 Boffzen\n\n\n\n\n\n\n\n\n\n\n\nDie Veranstaltung ist kostenlos. Melden Sie sich direkt per E-Mail an besucher@oelmuehle-solling.de oder unter Telefon 05271/96666-14
URL:https://spartipps-hx.de/veranstaltungen/aktionstag-oekolandbau-boffzen-anmeldung-erforderlich/
END:VEVENT
BEGIN:VEVENT
DTSTART;TZID=Europe/Berlin:20250910T140000
DTEND;TZID=Europe/Berlin:20250910T170000
DTSTAMP:20260425T172726
CREATED:20250905T095815Z
LAST-MODIFIED:20250905T095815Z
UID:10936-1757512800-1757523600@spartipps-hx.de
SUMMARY:Geführte Wanderung nördlicher Sachsenring Bad Driburg
DESCRIPTION:Wegstrecke: 9 km\nWegdauer: ca. 3 Stunden\nKosten: 3 € mit Kurkarte / 4 € ohne Kurkarte\nTreffpunkt: Wanderinfopunkt am Bahnübergang (Lange Str. 140)
URL:https://spartipps-hx.de/veranstaltungen/gefuehrte-wanderung-noerdlicher-sachsenring-bad-driburg/
END:VEVENT
BEGIN:VEVENT
DTSTART;TZID=Europe/Berlin:20250910T150000
DTEND;TZID=Europe/Berlin:20250910T160000
DTSTAMP:20260425T172726
CREATED:20250905T095810Z
LAST-MODIFIED:20250905T095810Z
UID:10810-1757516400-1757520000@spartipps-hx.de
SUMMARY:Vorlesestunde mit Bilderbuchkino und Basteln in der Stadtbücherei
DESCRIPTION:Veranstaltungsort\nStadtbücherei\nMöllinger Straße 9\n37671 Höxter
URL:https://spartipps-hx.de/veranstaltungen/vorlesestunde-mit-bilderbuchkino-und-basteln-in-der-stadtbuecherei/
END:VEVENT
BEGIN:VEVENT
DTSTART;TZID=Europe/Berlin:20250910T160000
DTEND;TZID=Europe/Berlin:20250910T200000
DTSTAMP:20260425T172726
CREATED:20250905T095806Z
LAST-MODIFIED:20250905T095806Z
UID:11013-1757520000-1757534400@spartipps-hx.de
SUMMARY:Blutspende Bad Driburg
DESCRIPTION:Schützenhalle Bad Driburg \nSchützenstr. \n33014 Bad Driburg \n 
URL:https://spartipps-hx.de/veranstaltungen/blutspende-bad-driburg/
END:VEVENT
BEGIN:VEVENT
DTSTART;TZID=Europe/Berlin:20250910T190000
DTEND;TZID=Europe/Berlin:20250910T203000
DTSTAMP:20260425T172726
CREATED:20250905T095800Z
LAST-MODIFIED:20250905T095800Z
UID:10757-1757530800-1757536200@spartipps-hx.de
SUMMARY:Von Karl dem Großen zur Burg Herstelle – Geschichte am Weserbogen
DESCRIPTION:Vortrag von Prof. Dr. med. Dr. phil. Martin Hörning: „ Von Karl dem Großen zur Burg Herstelle – Geschichte am Weserbogen“ \n\nAnschrift \n\n\n\n\nHistorisches Rathaus\nWeserstraße 11\n37671 Höxter\n\n\nOrt: Sitzungssaal im Historischen Rathaus (OG)\, Weserstraße 11
URL:https://spartipps-hx.de/veranstaltungen/von-karl-dem-grossen-zur-burg-herstelle-geschichte-am-weserbogen/
END:VEVENT
BEGIN:VEVENT
DTSTART;TZID=Europe/Berlin:20250910T193000
DTEND;TZID=Europe/Berlin:20250910T220000
DTSTAMP:20260425T172726
CREATED:20250905T095740Z
LAST-MODIFIED:20250905T095740Z
UID:10814-1757532600-1757541600@spartipps-hx.de
SUMMARY:Skatabend im Schützenhaus Albaxen
DESCRIPTION:Veranstaltungsort\nSchützenhaus\, Albaxen
URL:https://spartipps-hx.de/veranstaltungen/skatabend-im-schuetzenhaus-albaxen/
END:VEVENT
END:VCALENDAR