BEGIN:VCALENDAR
VERSION:2.0
PRODID:-//Spartipps f&uuml;r H&ouml;xter - ECPv6.15.20//NONSGML v1.0//EN
CALSCALE:GREGORIAN
METHOD:PUBLISH
X-WR-CALNAME:Spartipps f&uuml;r H&ouml;xter
X-ORIGINAL-URL:https://spartipps-hx.de
X-WR-CALDESC:Veranstaltungen für Spartipps f&uuml;r H&ouml;xter
REFRESH-INTERVAL;VALUE=DURATION:PT1H
X-Robots-Tag:noindex
X-PUBLISHED-TTL:PT1H
BEGIN:VTIMEZONE
TZID:Europe/Berlin
BEGIN:DAYLIGHT
TZOFFSETFROM:+0100
TZOFFSETTO:+0200
TZNAME:CEST
DTSTART:20240331T010000
END:DAYLIGHT
BEGIN:STANDARD
TZOFFSETFROM:+0200
TZOFFSETTO:+0100
TZNAME:CET
DTSTART:20241027T010000
END:STANDARD
BEGIN:DAYLIGHT
TZOFFSETFROM:+0100
TZOFFSETTO:+0200
TZNAME:CEST
DTSTART:20250330T010000
END:DAYLIGHT
BEGIN:STANDARD
TZOFFSETFROM:+0200
TZOFFSETTO:+0100
TZNAME:CET
DTSTART:20251026T010000
END:STANDARD
BEGIN:DAYLIGHT
TZOFFSETFROM:+0100
TZOFFSETTO:+0200
TZNAME:CEST
DTSTART:20260329T010000
END:DAYLIGHT
BEGIN:STANDARD
TZOFFSETFROM:+0200
TZOFFSETTO:+0100
TZNAME:CET
DTSTART:20261025T010000
END:STANDARD
END:VTIMEZONE
BEGIN:VEVENT
DTSTART;TZID=Europe/Berlin:20250902T100000
DTEND;TZID=Europe/Berlin:20250930T170000
DTSTAMP:20260425T185929
CREATED:20250829T103143Z
LAST-MODIFIED:20250829T103143Z
UID:10957-1756807200-1759251600@spartipps-hx.de
SUMMARY:Powerful Moments | Sportfotografien von Anja Niedringhaus in Höxter
DESCRIPTION:Forum Anja Niedringhaus\nWesterbachstr. 33\n37671 Höxter
URL:https://spartipps-hx.de/veranstaltungen/powerful-moments-sportfotografien-von-anja-niedringhaus-in-hoexter/
END:VEVENT
BEGIN:VEVENT
DTSTART;VALUE=DATE:20250905
DTEND;VALUE=DATE:20250908
DTSTAMP:20260425T185929
CREATED:20250829T103223Z
LAST-MODIFIED:20250829T103223Z
UID:10703-1757030400-1757289599@spartipps-hx.de
SUMMARY:1200 Jahr-Feier Stahle
DESCRIPTION:Dorfkern\, Stahle
URL:https://spartipps-hx.de/veranstaltungen/1200-jahr-feier-stahle/
END:VEVENT
BEGIN:VEVENT
DTSTART;VALUE=DATE:20250906
DTEND;VALUE=DATE:20250907
DTSTAMP:20260425T185929
CREATED:20250829T103339Z
LAST-MODIFIED:20250829T103339Z
UID:10799-1757116800-1757203199@spartipps-hx.de
SUMMARY:Fußball Tennis Turnier Lüchtringen
DESCRIPTION:Veranstaltungsort\nTennisplätze (Lambertweg)\, Lüchtringen
URL:https://spartipps-hx.de/veranstaltungen/fussball-tennis-turnier-luechtringen/
END:VEVENT
BEGIN:VEVENT
DTSTART;VALUE=DATE:20250906
DTEND;VALUE=DATE:20250909
DTSTAMP:20260425T185929
CREATED:20250829T103347Z
LAST-MODIFIED:20250829T103347Z
UID:10997-1757116800-1757375999@spartipps-hx.de
SUMMARY:Jubiläumsschützenfest in Beller
DESCRIPTION:Jubiläumsschützenfest zum 200-jährigen bestehen der Schützengilde Beller.
URL:https://spartipps-hx.de/veranstaltungen/jubilaeumsschuetzenfest-in-beller/
END:VEVENT
BEGIN:VEVENT
DTSTART;TZID=Europe/Berlin:20250906T070000
DTEND;TZID=Europe/Berlin:20250906T140000
DTSTAMP:20260425T185929
CREATED:20250829T103356Z
LAST-MODIFIED:20250829T103356Z
UID:10709-1757142000-1757167200@spartipps-hx.de
SUMMARY:Wochenmarkt Höxter
DESCRIPTION:Innenstadt\, Höxter
URL:https://spartipps-hx.de/veranstaltungen/wochenmarkt-hoexter-54/
END:VEVENT
BEGIN:VEVENT
DTSTART;TZID=Europe/Berlin:20250906T090000
DTEND;TZID=Europe/Berlin:20250906T140000
DTSTAMP:20260425T185929
CREATED:20250829T103404Z
LAST-MODIFIED:20250829T103404Z
UID:10706-1757149200-1757167200@spartipps-hx.de
SUMMARY:Veganer Markt Höxter
DESCRIPTION:Innenstadt\, Höxter
URL:https://spartipps-hx.de/veranstaltungen/veganer-markt-hoexter-5/
END:VEVENT
BEGIN:VEVENT
DTSTART;TZID=Europe/Berlin:20250906T100000
DTEND;TZID=Europe/Berlin:20250906T120000
DTSTAMP:20260425T185929
CREATED:20250829T103414Z
LAST-MODIFIED:20250829T103414Z
UID:10801-1757152800-1757160000@spartipps-hx.de
SUMMARY:Ökumenische Bücherei für Kinder Ottbergen
DESCRIPTION:Veranstaltungsort\nBürgerhaus\, Ottbergen \n  \n 
URL:https://spartipps-hx.de/veranstaltungen/oekumenische-buecherei-fuer-kinder-ottbergen/
END:VEVENT
BEGIN:VEVENT
DTSTART;TZID=Europe/Berlin:20250906T100000
DTEND;TZID=Europe/Berlin:20250906T180000
DTSTAMP:20260425T185929
CREATED:20250829T103432Z
LAST-MODIFIED:20250829T103432Z
UID:10929-1757152800-1757181600@spartipps-hx.de
SUMMARY:Blaulichttag der Freiwilligen Feuerwehr Bad Driburg
DESCRIPTION:Anschrift \n\n\n\n\nInnenstadt Bad Driburg\nLange Straße\n33014 Bad Driburg
URL:https://spartipps-hx.de/veranstaltungen/blaulichttag-der-freiwilligen-feuerwehr-bad-driburg/
END:VEVENT
BEGIN:VEVENT
DTSTART;TZID=Europe/Berlin:20250906T103000
DTEND;TZID=Europe/Berlin:20250906T120000
DTSTAMP:20260425T185929
CREATED:20250829T103445Z
LAST-MODIFIED:20250829T103445Z
UID:10742-1757154600-1757160000@spartipps-hx.de
SUMMARY:Die Ölmühle Boffzen kennenlernen (Anmeldung erforderlich)
DESCRIPTION:Ölmühle Solling GmbH\nHöxtersche Straße 3\n37691 Boffzen\n\n\nDie Veranstaltung ist kostenlos. Melden Sie sich direkt an per E-Mail an besucher@oelmuehle-solling.de oder unter Telefon 05271/96666-14.
URL:https://spartipps-hx.de/veranstaltungen/die-oelmuehle-boffzen-kennenlernen-anmeldung-erforderlich/
END:VEVENT
BEGIN:VEVENT
DTSTART;TZID=Europe/Berlin:20250906T110000
DTEND;TZID=Europe/Berlin:20250906T123000
DTSTAMP:20260425T185929
CREATED:20250905T100000Z
LAST-MODIFIED:20250905T100000Z
UID:10816-1757156400-1757161800@spartipps-hx.de
SUMMARY:Duftender Stadtrundgang - öffentliche Stadtführung Holzminden
DESCRIPTION:Veranstaltungsort\nSensoria – Haus der Düfte und Aromen\nObere Straße 45\n37603 Holzminden
URL:https://spartipps-hx.de/veranstaltungen/duftender-stadtrundgang-oeffentliche-stadtfuehrung-holzminden-4/
END:VEVENT
BEGIN:VEVENT
DTSTART;TZID=Europe/Berlin:20250906T140000
DTEND;TZID=Europe/Berlin:20250906T153000
DTSTAMP:20260425T185929
CREATED:20250905T100010Z
LAST-MODIFIED:20250905T100010Z
UID:10869-1757167200-1757172600@spartipps-hx.de
SUMMARY:Öffentliche Stadtführung Warburg
DESCRIPTION:Der Startpunkt ist die Tourist-Information auf dem Neustädter Markt.
URL:https://spartipps-hx.de/veranstaltungen/oeffentliche-stadtfuehrung-warburg-7/
END:VEVENT
BEGIN:VEVENT
DTSTART;TZID=Europe/Berlin:20250906T140000
DTEND;TZID=Europe/Berlin:20250906T170000
DTSTAMP:20260425T185929
CREATED:20250905T100027Z
LAST-MODIFIED:20250905T100027Z
UID:10744-1757167200-1757178000@spartipps-hx.de
SUMMARY:Naturkundliche Wanderung in das Naturschutzgebiet Kahlenberg\, südlich von Ottbergen
DESCRIPTION:Anmeldung erforderlich \nAnschrift \n\n\n\n\nOttbergen\nBahnhofstraße 19\n37671 Höxter – Ottbergen\nTreffpunkt ist am Schlangenweg  erste Kurve  um 14 Uhr.\nAnmeldungen werden erbeten bis zum 05.09.2025 bei Manfred Zimmermann unter der Telefonnummer 0170/6616689.\nHinweis: den Teilnehmern wird festes Schuhwerk und dem Wetter angepasste Kleidung empfohlen. Aufgrund der Örtlichkeit müssen teilweise auch Weidezäune überwunden werden.
URL:https://spartipps-hx.de/veranstaltungen/naturkundliche-wanderung-in-das-naturschutzgebiet-kahlenberg-suedlich-von-ottbergen/
END:VEVENT
BEGIN:VEVENT
DTSTART;TZID=Europe/Berlin:20250906T140000
DTEND;TZID=Europe/Berlin:20250906T170000
DTSTAMP:20260425T185929
CREATED:20250905T100031Z
LAST-MODIFIED:20250905T100031Z
UID:10931-1757167200-1757178000@spartipps-hx.de
SUMMARY:Geführte Wanderung durch die Schwalle
DESCRIPTION:Treffpunkt: Wanderinfopunkt am Bahnübergang (Lange Str. 140)
URL:https://spartipps-hx.de/veranstaltungen/gefuehrte-wanderung-durch-die-schwalle/
END:VEVENT
BEGIN:VEVENT
DTSTART;TZID=Europe/Berlin:20250906T180000
DTEND;TZID=Europe/Berlin:20250906T193000
DTSTAMP:20260425T185929
CREATED:20250905T100036Z
LAST-MODIFIED:20250905T100036Z
UID:10747-1757181600-1757187000@spartipps-hx.de
SUMMARY:kostenloses Open-Air Jazz-Konzert Höxter
DESCRIPTION:Anschrift \n\n\n\n\nStadtwall Höxter\n37671 Höxter
URL:https://spartipps-hx.de/veranstaltungen/kostenloses-open-air-jazz-konzert-hoexter/
END:VEVENT
BEGIN:VEVENT
DTSTART;TZID=Europe/Berlin:20250906T193000
DTEND;TZID=Europe/Berlin:20250906T193000
DTSTAMP:20260425T185929
CREATED:20250905T100041Z
LAST-MODIFIED:20250905T100041Z
UID:10882-1757187000-1757187000@spartipps-hx.de
SUMMARY:Bullriding-Wettbewerb (Anmeldung erforderlich)
DESCRIPTION:Veranstaltungsort \nReiterverein St. Georg Diemeltal
URL:https://spartipps-hx.de/veranstaltungen/bullriding-wettbewerb-anmeldung-erforderlich/
END:VEVENT
END:VCALENDAR