BEGIN:VCALENDAR
VERSION:2.0
PRODID:-//Spartipps f&uuml;r H&ouml;xter - ECPv6.15.20//NONSGML v1.0//EN
CALSCALE:GREGORIAN
METHOD:PUBLISH
X-WR-CALNAME:Spartipps f&uuml;r H&ouml;xter
X-ORIGINAL-URL:https://spartipps-hx.de
X-WR-CALDESC:Veranstaltungen für Spartipps f&uuml;r H&ouml;xter
REFRESH-INTERVAL;VALUE=DURATION:PT1H
X-Robots-Tag:noindex
X-PUBLISHED-TTL:PT1H
BEGIN:VTIMEZONE
TZID:Europe/Berlin
BEGIN:DAYLIGHT
TZOFFSETFROM:+0100
TZOFFSETTO:+0200
TZNAME:CEST
DTSTART:20240331T010000
END:DAYLIGHT
BEGIN:STANDARD
TZOFFSETFROM:+0200
TZOFFSETTO:+0100
TZNAME:CET
DTSTART:20241027T010000
END:STANDARD
BEGIN:DAYLIGHT
TZOFFSETFROM:+0100
TZOFFSETTO:+0200
TZNAME:CEST
DTSTART:20250330T010000
END:DAYLIGHT
BEGIN:STANDARD
TZOFFSETFROM:+0200
TZOFFSETTO:+0100
TZNAME:CET
DTSTART:20251026T010000
END:STANDARD
BEGIN:DAYLIGHT
TZOFFSETFROM:+0100
TZOFFSETTO:+0200
TZNAME:CEST
DTSTART:20260329T010000
END:DAYLIGHT
BEGIN:STANDARD
TZOFFSETFROM:+0200
TZOFFSETTO:+0100
TZNAME:CET
DTSTART:20261025T010000
END:STANDARD
END:VTIMEZONE
BEGIN:VEVENT
DTSTART;TZID=Europe/Berlin:20250902T100000
DTEND;TZID=Europe/Berlin:20250930T170000
DTSTAMP:20260425T222448
CREATED:20250829T103143Z
LAST-MODIFIED:20250829T103143Z
UID:10957-1756807200-1759251600@spartipps-hx.de
SUMMARY:Powerful Moments | Sportfotografien von Anja Niedringhaus in Höxter
DESCRIPTION:Forum Anja Niedringhaus\nWesterbachstr. 33\n37671 Höxter
URL:https://spartipps-hx.de/veranstaltungen/powerful-moments-sportfotografien-von-anja-niedringhaus-in-hoexter/
END:VEVENT
BEGIN:VEVENT
DTSTART;VALUE=DATE:20250905
DTEND;VALUE=DATE:20250908
DTSTAMP:20260425T222448
CREATED:20250829T103223Z
LAST-MODIFIED:20250829T103223Z
UID:10703-1757030400-1757289599@spartipps-hx.de
SUMMARY:1200 Jahr-Feier Stahle
DESCRIPTION:Dorfkern\, Stahle
URL:https://spartipps-hx.de/veranstaltungen/1200-jahr-feier-stahle/
END:VEVENT
BEGIN:VEVENT
DTSTART;TZID=Europe/Berlin:20250905T070000
DTEND;TZID=Europe/Berlin:20250905T130000
DTSTAMP:20260425T222448
CREATED:20250829T103246Z
LAST-MODIFIED:20250829T103246Z
UID:10910-1757055600-1757077200@spartipps-hx.de
SUMMARY:Wochenmarkt Bad Driburg
DESCRIPTION:Ort Prälat-Zimmermann-Straße Bad Driburg
URL:https://spartipps-hx.de/veranstaltungen/wochenmarkt-bad-driburg-5/
END:VEVENT
BEGIN:VEVENT
DTSTART;TZID=Europe/Berlin:20250905T150000
DTEND;TZID=Europe/Berlin:20250905T170000
DTSTAMP:20260425T222448
CREATED:20250829T103259Z
LAST-MODIFIED:20250829T103259Z
UID:10921-1757084400-1757091600@spartipps-hx.de
SUMMARY:Stadtführung Bad Driburg
DESCRIPTION:Treffpunkt:\nTourist Information\, Lange Str. 87
URL:https://spartipps-hx.de/veranstaltungen/stadtfuehrung-bad-driburg-7/
END:VEVENT
BEGIN:VEVENT
DTSTART;TZID=Europe/Berlin:20250905T150000
DTEND;TZID=Europe/Berlin:20250905T230000
DTSTAMP:20260425T222448
CREATED:20250829T103307Z
LAST-MODIFIED:20250829T103307Z
UID:10859-1757084400-1757113200@spartipps-hx.de
SUMMARY:Land-Genuss Warburg
DESCRIPTION:Ort:\n\nScherfede\, Dorftreff\, Briloner Str. 30 \n„Von leckeren Cocktails über eine gute Weinauswahl bis hin zu leckeren Genießer-Häppchen wird wieder alles geboten. Mit Produkten Scherfeder Firmen und unseren heimischen Partnern. Flohmarkt\, die geöffnete Bücherei\, die Besichtigung des Hauses und die Vorstellung „digitaler Dorfrundgang“ sind im Programm. “
URL:https://spartipps-hx.de/veranstaltungen/land-genuss-warburg/
END:VEVENT
BEGIN:VEVENT
DTSTART;TZID=Europe/Berlin:20250905T160000
DTEND;TZID=Europe/Berlin:20250905T200000
DTSTAMP:20260425T222448
CREATED:20250829T103317Z
LAST-MODIFIED:20250829T103317Z
UID:11003-1757088000-1757102400@spartipps-hx.de
SUMMARY:Blutspende Warburg-Bonenburg
DESCRIPTION:Eggehalle \nZum Wiesenhof 34 \n34414 Warburg
URL:https://spartipps-hx.de/veranstaltungen/blutspende-warburg-bonenburg/
END:VEVENT
BEGIN:VEVENT
DTSTART;TZID=Europe/Berlin:20250905T160000
DTEND;TZID=Europe/Berlin:20250905T200000
DTSTAMP:20260425T222448
CREATED:20250829T103330Z
LAST-MODIFIED:20250829T103330Z
UID:11005-1757088000-1757102400@spartipps-hx.de
SUMMARY:Blutspende Peckelsheim
DESCRIPTION:Eggeschule \nSchützenweg 1 \n34439 Willebadessen – Peckelsheim
URL:https://spartipps-hx.de/veranstaltungen/blutspende-peckelsheim/
END:VEVENT
END:VCALENDAR