BEGIN:VCALENDAR
VERSION:2.0
PRODID:-//Spartipps f&uuml;r H&ouml;xter - ECPv6.15.20//NONSGML v1.0//EN
CALSCALE:GREGORIAN
METHOD:PUBLISH
X-WR-CALNAME:Spartipps f&uuml;r H&ouml;xter
X-ORIGINAL-URL:https://spartipps-hx.de
X-WR-CALDESC:Veranstaltungen für Spartipps f&uuml;r H&ouml;xter
REFRESH-INTERVAL;VALUE=DURATION:PT1H
X-Robots-Tag:noindex
X-PUBLISHED-TTL:PT1H
BEGIN:VTIMEZONE
TZID:Europe/Berlin
BEGIN:DAYLIGHT
TZOFFSETFROM:+0100
TZOFFSETTO:+0200
TZNAME:CEST
DTSTART:20240331T010000
END:DAYLIGHT
BEGIN:STANDARD
TZOFFSETFROM:+0200
TZOFFSETTO:+0100
TZNAME:CET
DTSTART:20241027T010000
END:STANDARD
BEGIN:DAYLIGHT
TZOFFSETFROM:+0100
TZOFFSETTO:+0200
TZNAME:CEST
DTSTART:20250330T010000
END:DAYLIGHT
BEGIN:STANDARD
TZOFFSETFROM:+0200
TZOFFSETTO:+0100
TZNAME:CET
DTSTART:20251026T010000
END:STANDARD
BEGIN:DAYLIGHT
TZOFFSETFROM:+0100
TZOFFSETTO:+0200
TZNAME:CEST
DTSTART:20260329T010000
END:DAYLIGHT
BEGIN:STANDARD
TZOFFSETFROM:+0200
TZOFFSETTO:+0100
TZNAME:CET
DTSTART:20261025T010000
END:STANDARD
END:VTIMEZONE
BEGIN:VEVENT
DTSTART;VALUE=DATE:20250830
DTEND;VALUE=DATE:20250831
DTSTAMP:20260426T000734
CREATED:20250808T085732Z
LAST-MODIFIED:20250808T085732Z
UID:10347-1756512000-1756598399@spartipps-hx.de
SUMMARY:Familienfest / aus den Sommerferien zurück
DESCRIPTION:Veranstaltungsort:Wiemers-Meyerscher Hof\, Ottbergen
URL:https://spartipps-hx.de/veranstaltungen/familienfest-aus-den-sommerferien-zurueck/
END:VEVENT
BEGIN:VEVENT
DTSTART;TZID=Europe/Berlin:20250830T080000
DTEND;TZID=Europe/Berlin:20250830T130000
DTSTAMP:20260426T000734
CREATED:20250808T085726Z
LAST-MODIFIED:20250808T085726Z
UID:10280-1756540800-1756558800@spartipps-hx.de
SUMMARY:Wochenmarkt Höxter
DESCRIPTION:
URL:https://spartipps-hx.de/veranstaltungen/wochenmarkt-hoexter-43/
LOCATION:Höxter\, Innenstadt
END:VEVENT
BEGIN:VEVENT
DTSTART;TZID=Europe/Berlin:20250830T100000
DTEND;TZID=Europe/Berlin:20250830T120000
DTSTAMP:20260426T000734
CREATED:20250808T085651Z
LAST-MODIFIED:20250808T085651Z
UID:10349-1756548000-1756555200@spartipps-hx.de
SUMMARY:Ökumenische Bücherei für Kinder
DESCRIPTION:Veranstaltungsort: Bürgerhaus\, Ottbergen
URL:https://spartipps-hx.de/veranstaltungen/oekumenische-buecherei-fuer-kinder/
END:VEVENT
BEGIN:VEVENT
DTSTART;TZID=Europe/Berlin:20250830T100000
DTEND;TZID=Europe/Berlin:20250830T160000
DTSTAMP:20260426T000734
CREATED:20250808T085632Z
LAST-MODIFIED:20250808T085632Z
UID:10255-1756548000-1756569600@spartipps-hx.de
SUMMARY:Dorfflohmarkt Silberborn
DESCRIPTION:Veranstaltungsort\nDorfgemeinschaftshaus / Ortschaft Silberborn
URL:https://spartipps-hx.de/veranstaltungen/dorfflohmarkt-silberborn/
END:VEVENT
BEGIN:VEVENT
DTSTART;TZID=Europe/Berlin:20250830T110000
DTEND;TZID=Europe/Berlin:20250830T123000
DTSTAMP:20260426T000734
CREATED:20250808T085619Z
LAST-MODIFIED:20250808T085619Z
UID:10244-1756551600-1756557000@spartipps-hx.de
SUMMARY:Duftender Stadtrundgang - öffentliche Stadtführungen
DESCRIPTION:Veranstaltungsort\nSensoria – Haus der Düfte und Aromen\nObere Straße 45\n37603 Holzminden
URL:https://spartipps-hx.de/veranstaltungen/duftender-stadtrundgang-oeffentliche-stadtfuehrungen/
END:VEVENT
BEGIN:VEVENT
DTSTART;TZID=Europe/Berlin:20250830T140000
DTEND;TZID=Europe/Berlin:20250830T210000
DTSTAMP:20260426T000734
CREATED:20250808T085501Z
LAST-MODIFIED:20250808T085501Z
UID:10404-1756562400-1756587600@spartipps-hx.de
SUMMARY:Sommerfest Schützenverein Warburg von 1591 e.V.
DESCRIPTION:Ort: Spielplatz Diemelaue\nOrtschaft: Warburg
URL:https://spartipps-hx.de/veranstaltungen/sommerfest-schuetzenverein-warburg-von-1591-e-v/
END:VEVENT
BEGIN:VEVENT
DTSTART;TZID=Europe/Berlin:20250830T170000
DTEND;TZID=Europe/Berlin:20250830T170000
DTSTAMP:20260426T000734
CREATED:20250808T085403Z
LAST-MODIFIED:20250808T085403Z
UID:10351-1756573200-1756573200@spartipps-hx.de
SUMMARY:Hafenfest mit Weser-Schwimmen
DESCRIPTION:Veranstaltungsort:An der Fähre\, Lüchtringen
URL:https://spartipps-hx.de/veranstaltungen/hafenfest-mit-weser-schwimmen/
END:VEVENT
BEGIN:VEVENT
DTSTART;TZID=Europe/Berlin:20250830T193000
DTEND;TZID=Europe/Berlin:20250830T220000
DTSTAMP:20260426T000734
CREATED:20250808T085356Z
LAST-MODIFIED:20250808T085356Z
UID:10257-1756582200-1756591200@spartipps-hx.de
SUMMARY:Marktsommer Konzert – The Complement Club I Finest Acoustic Rockmusic
DESCRIPTION:Veranstaltungsort\nMarktplatz Holzminden\nMarkstraße\n37603 Holzminden
URL:https://spartipps-hx.de/veranstaltungen/marktsommer-konzert-the-complement-club-i-finest-acoustic-rockmusic/
END:VEVENT
END:VCALENDAR