BEGIN:VCALENDAR
VERSION:2.0
PRODID:-//Spartipps f&uuml;r H&ouml;xter - ECPv6.15.20//NONSGML v1.0//EN
CALSCALE:GREGORIAN
METHOD:PUBLISH
X-WR-CALNAME:Spartipps f&uuml;r H&ouml;xter
X-ORIGINAL-URL:https://spartipps-hx.de
X-WR-CALDESC:Veranstaltungen für Spartipps f&uuml;r H&ouml;xter
REFRESH-INTERVAL;VALUE=DURATION:PT1H
X-Robots-Tag:noindex
X-PUBLISHED-TTL:PT1H
BEGIN:VTIMEZONE
TZID:Europe/Berlin
BEGIN:DAYLIGHT
TZOFFSETFROM:+0100
TZOFFSETTO:+0200
TZNAME:CEST
DTSTART:20240331T010000
END:DAYLIGHT
BEGIN:STANDARD
TZOFFSETFROM:+0200
TZOFFSETTO:+0100
TZNAME:CET
DTSTART:20241027T010000
END:STANDARD
BEGIN:DAYLIGHT
TZOFFSETFROM:+0100
TZOFFSETTO:+0200
TZNAME:CEST
DTSTART:20250330T010000
END:DAYLIGHT
BEGIN:STANDARD
TZOFFSETFROM:+0200
TZOFFSETTO:+0100
TZNAME:CET
DTSTART:20251026T010000
END:STANDARD
BEGIN:DAYLIGHT
TZOFFSETFROM:+0100
TZOFFSETTO:+0200
TZNAME:CEST
DTSTART:20260329T010000
END:DAYLIGHT
BEGIN:STANDARD
TZOFFSETFROM:+0200
TZOFFSETTO:+0100
TZNAME:CET
DTSTART:20261025T010000
END:STANDARD
END:VTIMEZONE
BEGIN:VEVENT
DTSTART;TZID=Europe/Berlin:20250808T180000
DTEND;TZID=Europe/Berlin:20250810T190000
DTSTAMP:20260425T190708
CREATED:20250808T102453Z
LAST-MODIFIED:20250808T102453Z
UID:10388-1754676000-1754852400@spartipps-hx.de
SUMMARY:Kälkenfest 2025 Warburg
DESCRIPTION:Ort:\n\nMarktplatz in der Altstadt \n\nOrtschaft:\n\nWarburg
URL:https://spartipps-hx.de/veranstaltungen/kaelkenfest-2025-warburg/
END:VEVENT
BEGIN:VEVENT
DTSTART;TZID=Europe/Berlin:20250809T080000
DTEND;TZID=Europe/Berlin:20250809T130000
DTSTAMP:20260425T190708
CREATED:20250808T102445Z
LAST-MODIFIED:20250808T102445Z
UID:10268-1754726400-1754744400@spartipps-hx.de
SUMMARY:Wochenmarkt Höxter
DESCRIPTION:
URL:https://spartipps-hx.de/veranstaltungen/wochenmarkt-hoexter-49/
LOCATION:Höxter\, Innenstadt
END:VEVENT
BEGIN:VEVENT
DTSTART;TZID=Europe/Berlin:20250809T100000
DTEND;TZID=Europe/Berlin:20250809T120000
DTSTAMP:20260425T190708
CREATED:20250808T102439Z
LAST-MODIFIED:20250808T102439Z
UID:10315-1754733600-1754740800@spartipps-hx.de
SUMMARY:Ökumenische Bücherei für Kinder
DESCRIPTION:Veranstaltungsort:Bürgerhaus\, Ottbergen
URL:https://spartipps-hx.de/veranstaltungen/oekumenische-buecherei-fuer-kinder-4/
END:VEVENT
BEGIN:VEVENT
DTSTART;TZID=Europe/Berlin:20250809T110000
DTEND;TZID=Europe/Berlin:20250809T123000
DTSTAMP:20260425T190708
CREATED:20250808T102432Z
LAST-MODIFIED:20250808T102432Z
UID:10236-1754737200-1754742600@spartipps-hx.de
SUMMARY:Duftender Stadtrundgang - öffentliche Stadtführungen
DESCRIPTION:Veranstaltungsort\nSensoria – Haus der Düfte und Aromen\nObere Straße 45\n37603 Holzminden
URL:https://spartipps-hx.de/veranstaltungen/duftender-stadtrundgang-oeffentliche-stadtfuehrungen-5/
END:VEVENT
BEGIN:VEVENT
DTSTART;TZID=Europe/Berlin:20250809T140000
DTEND;TZID=Europe/Berlin:20250809T153000
DTSTAMP:20260425T190708
CREATED:20250808T102258Z
LAST-MODIFIED:20250808T102258Z
UID:10390-1754748000-1754753400@spartipps-hx.de
SUMMARY:Öffentliche Stadtführung
DESCRIPTION:Der Startpunkt ist die Tourist-Information auf dem Neustädter Markt. Eine Voranmeldung ist nicht notwendig.
URL:https://spartipps-hx.de/veranstaltungen/oeffentliche-stadtfuehrung-2/
END:VEVENT
BEGIN:VEVENT
DTSTART;TZID=Europe/Berlin:20250809T140000
DTEND;TZID=Europe/Berlin:20250809T170000
DTSTAMP:20260425T190708
CREATED:20250808T102305Z
LAST-MODIFIED:20250808T102305Z
UID:10429-1754748000-1754758800@spartipps-hx.de
SUMMARY:Geführte Wanderung südlicher Sachsenring Bad Driburg
DESCRIPTION:Anfahrt \n\n\n\n\nWanderinfopunkt am Bahnübergang – Bad Driburg\nLange Straße 140\n33014 Bad Driburg\n\nWegstrecke: 8-10 km\nWegdauer: ca. 3 Stunden\nKosten: 3 € mit Kurkarte / 4 € ohne Kurkarte\nTreffpunkt: Wanderinfopunkt am Bahnübergang (Lange Str. 140)
URL:https://spartipps-hx.de/veranstaltungen/gefuehrte-wanderung-suedlicher-sachsenring-bad-driburg/
END:VEVENT
END:VCALENDAR