BEGIN:VCALENDAR
VERSION:2.0
PRODID:-//Spartipps f&uuml;r H&ouml;xter - ECPv6.15.20//NONSGML v1.0//EN
CALSCALE:GREGORIAN
METHOD:PUBLISH
X-WR-CALNAME:Spartipps f&uuml;r H&ouml;xter
X-ORIGINAL-URL:https://spartipps-hx.de
X-WR-CALDESC:Veranstaltungen für Spartipps f&uuml;r H&ouml;xter
REFRESH-INTERVAL;VALUE=DURATION:PT1H
X-Robots-Tag:noindex
X-PUBLISHED-TTL:PT1H
BEGIN:VTIMEZONE
TZID:Europe/Berlin
BEGIN:DAYLIGHT
TZOFFSETFROM:+0100
TZOFFSETTO:+0200
TZNAME:CEST
DTSTART:20240331T010000
END:DAYLIGHT
BEGIN:STANDARD
TZOFFSETFROM:+0200
TZOFFSETTO:+0100
TZNAME:CET
DTSTART:20241027T010000
END:STANDARD
BEGIN:DAYLIGHT
TZOFFSETFROM:+0100
TZOFFSETTO:+0200
TZNAME:CEST
DTSTART:20250330T010000
END:DAYLIGHT
BEGIN:STANDARD
TZOFFSETFROM:+0200
TZOFFSETTO:+0100
TZNAME:CET
DTSTART:20251026T010000
END:STANDARD
BEGIN:DAYLIGHT
TZOFFSETFROM:+0100
TZOFFSETTO:+0200
TZNAME:CEST
DTSTART:20260329T010000
END:DAYLIGHT
BEGIN:STANDARD
TZOFFSETFROM:+0200
TZOFFSETTO:+0100
TZNAME:CET
DTSTART:20261025T010000
END:STANDARD
END:VTIMEZONE
BEGIN:VEVENT
DTSTART;TZID=Europe/Berlin:20250806T070000
DTEND;TZID=Europe/Berlin:20250806T140000
DTSTAMP:20260425T223053
CREATED:20250808T102551Z
LAST-MODIFIED:20250808T102551Z
UID:10282-1754463600-1754488800@spartipps-hx.de
SUMMARY:Vieh- und Krammarkt – Höxter
DESCRIPTION:
URL:https://spartipps-hx.de/veranstaltungen/vieh-und-krammarkt-hoexter-6/
LOCATION:Höxter\, Innenstadt
END:VEVENT
BEGIN:VEVENT
DTSTART;TZID=Europe/Berlin:20250806T080000
DTEND;TZID=Europe/Berlin:20250806T130000
DTSTAMP:20260425T223053
CREATED:20250808T102546Z
LAST-MODIFIED:20250808T102546Z
UID:10266-1754467200-1754485200@spartipps-hx.de
SUMMARY:Wochenmarkt Höxter
DESCRIPTION:
URL:https://spartipps-hx.de/veranstaltungen/wochenmarkt-hoexter-50/
LOCATION:Höxter\, Innenstadt
END:VEVENT
BEGIN:VEVENT
DTSTART;TZID=Europe/Berlin:20250806T150000
DTEND;TZID=Europe/Berlin:20250806T170000
DTSTAMP:20260425T223053
CREATED:20250731T095414Z
LAST-MODIFIED:20250808T102540Z
UID:10311-1754492400-1754499600@spartipps-hx.de
SUMMARY:Männertreff
DESCRIPTION:Veranstaltungsort:Albaxen
URL:https://spartipps-hx.de/veranstaltungen/maennertreff/
END:VEVENT
END:VCALENDAR