BEGIN:VCALENDAR
VERSION:2.0
PRODID:-//Spartipps f&uuml;r H&ouml;xter - ECPv6.15.20//NONSGML v1.0//EN
CALSCALE:GREGORIAN
METHOD:PUBLISH
X-WR-CALNAME:Spartipps f&uuml;r H&ouml;xter
X-ORIGINAL-URL:https://spartipps-hx.de
X-WR-CALDESC:Veranstaltungen für Spartipps f&uuml;r H&ouml;xter
REFRESH-INTERVAL;VALUE=DURATION:PT1H
X-Robots-Tag:noindex
X-PUBLISHED-TTL:PT1H
BEGIN:VTIMEZONE
TZID:Europe/Berlin
BEGIN:DAYLIGHT
TZOFFSETFROM:+0100
TZOFFSETTO:+0200
TZNAME:CEST
DTSTART:20240331T010000
END:DAYLIGHT
BEGIN:STANDARD
TZOFFSETFROM:+0200
TZOFFSETTO:+0100
TZNAME:CET
DTSTART:20241027T010000
END:STANDARD
BEGIN:DAYLIGHT
TZOFFSETFROM:+0100
TZOFFSETTO:+0200
TZNAME:CEST
DTSTART:20250330T010000
END:DAYLIGHT
BEGIN:STANDARD
TZOFFSETFROM:+0200
TZOFFSETTO:+0100
TZNAME:CET
DTSTART:20251026T010000
END:STANDARD
BEGIN:DAYLIGHT
TZOFFSETFROM:+0100
TZOFFSETTO:+0200
TZNAME:CEST
DTSTART:20260329T010000
END:DAYLIGHT
BEGIN:STANDARD
TZOFFSETFROM:+0200
TZOFFSETTO:+0100
TZNAME:CET
DTSTART:20261025T010000
END:STANDARD
END:VTIMEZONE
BEGIN:VEVENT
DTSTART;VALUE=DATE:20250801
DTEND;VALUE=DATE:20250802
DTSTAMP:20260425T185649
CREATED:20250808T102737Z
LAST-MODIFIED:20250808T102737Z
UID:10305-1754006400-1754092799@spartipps-hx.de
SUMMARY:Berglauf Ovenhausen
DESCRIPTION:Veranstaltungsort:Ovenhausen
URL:https://spartipps-hx.de/veranstaltungen/berglauf-ovenhausen/
END:VEVENT
BEGIN:VEVENT
DTSTART;TZID=Europe/Berlin:20250801T100000
DTEND;TZID=Europe/Berlin:20250801T170000
DTSTAMP:20260425T185649
CREATED:20250808T102650Z
LAST-MODIFIED:20250808T102650Z
UID:10226-1754042400-1754067600@spartipps-hx.de
SUMMARY:Ausstellung: Das schmale Format - Jacob Pins und der japanische Pillar Print
DESCRIPTION:Forum Jacob Pins\nWesterbachstraße 35-37\n37671 Höxter\n\nErwachsene: 5\,00 €\nermäßigt: 3\,50 €\nKinder: frei
URL:https://spartipps-hx.de/veranstaltungen/ausstellung-das-schmale-format-jacob-pins-und-der-japanische-pillar-print/
END:VEVENT
END:VCALENDAR